Workbook
Name _Hlk62576649: 'E1'!#REF!
Name _Hlk62576649: 'E2'!#REF!
Name _Hlk62576649: 'E3'!#REF!
Name _Hlk62576649: 'E4'!#REF!
Name _Hlk62576649: 'S1'!#REF!
Name _Hlk62576649: 'S2'!#REF!
Name _Hlk62576649: 'S3'!#REF!
Name _Hlk62576649: 介绍!#REF!
Name _Hlk62576649: 仪表盘!#REF!

Sheet 介绍
A6: PQS 资源 | B6: 链接到 Resources.org 页面
A8: PQS 常见问题解答 | B8: 链接到 PQS 常见问题
A10: 指示： | B10: 观看分步教学视频
A14: 区域
B15: 从下拉列表中选择
A17: 成员组织
B18: 从下拉列表中选择。在选择成员组织之前选择区域。
A20: 完成人
B21: 列出参与自我评估的所有成员组织代表的姓名和职务
A23: 日期
B24: 填写自我评估完成或最后更新的日期
A28: 目录 | B28: S1 - 提高地方项目活动的质量和覆盖率
A29: 单击以访问每个选项卡 | B29: S2 - 赋能运动员领袖和其他变革者
B30: S3 - 健全包容性服务和营造包容性环境
B31: E1 - 特奥会运动数字化
B32: E2 - 收入渠道多样化
B33: E3 - 建立品牌
B34: E4 - 促进组织发展
B35: 仪表盘
A38: 总结报告 | B38: 观看教学视频
B39: 完成自我评估后，要生成摘要 PDF文件，请转到文件 => 打印 => 从打印机列表中选择“Adobe PDF” => 从设置中选择“打印整个工作簿” => 单击“打印”
A41: 自我评估
A42: 完成进度 | B42: =Data!C2 -> 0

Sheet S1
A1: 战略计划参考 | B1: PQS领域 | C1: 阶段1 | D1: 阶段2 | E1: 阶段3 | F1: 当前阶段 | G1: 目标阶段 | H1: 高优先级 | I1: 说明 分享有关您当前阶段、目标阶段以及为进阶到目标阶段所采取的行动步骤的说明 | J1: 进度报告 从下拉列表中选择进度状态 | K1: 进度报告说明
A2: S1.1地方组织运行模式、组织结构和对外拓展 | B2: 地方性特奥设施 | C2: 地方性特奥会（例如村、行政区域、下属组织）通常由志愿者团队（3名以上）负责组织，并且在组织过程中他们有明确的分工（如宣传、后勤和外联）。 | D2: 地方性特奥组织通常以“俱乐部”（有时也叫作次级组织或者下属组织）形式运营，由分工明确的专门委员会负责日常运作。 | E2: 地方“俱乐部”组织体育活动、健康活动、幼儿运动员计划、运动员领袖及校园活动。“俱乐部”通常在当地筹集资金，寻求地方媒体的广泛报道。
B3: 运动员和融合伙伴招募与维护 | C3: 成员组织招募具有不同背景、来自不同地区的新运动员和融合伙伴，每年计算其留任率。 | D3: 成员组织在知名度较低的地区积极招募运动员和融合伙伴（如偏远地区）。统一制定运动员留任计划，确保每年运动员的留任率达到75%。 | E3: 成员组织成功留住90%的运动员和融合伙伴。
B4: 教练员招募和留任 | C4: 成员组织积极招募新教练员，同时每年对留任人数进行统计。 | D4: 成员组织致力于吸收体育合作伙伴和体育社区（俱乐部、联合会、体育教师）的持证教练员，保证每年教练员的留任率达到75%。 | E4: 成员组织每年能留住90%的持证教练员。
B5: 运动员和融合领导力 | C5: 在地方层面上，运动员领袖发挥着举足轻重的作用（例如队长、训练器械负责人）。 | D5: 地方性特奥“俱乐部”委员会专门招募一位运动员领袖，并调整委员会的现有做法，以确保运动员能平等参与决策和活动，并为此献计献策。 | E5: 在运动员领袖的指导下分配委员会职责和开展当地“俱乐部”运营工作（例如训练日程、沟通、筹款等）。
A6: S1.2教练员培养 | B6: 教练员发展系统 | C6: 成员组织要确保教练员完成了国际特殊奥林匹克（SOI）或同级别机构举办的教练员认证培训课程，涵盖运动员发展模式（ADM）的各个阶段。 | D6: 成员组织确保教练员完成特奥会全球教练员发展系统部分阶段的学习。成员组织提供或促进特定体育项目教练员认证培训，为获取更高级别的认证创造机会（包括机能活动训练计划）。70%的教练员拥有普遍承认的教练员认证证书。 | E6: 成员组织建立健全完善的、与国家教练员培养框架或特奥会教练员全球培养系统相符的教练员培训系统。90%的教练员拥有普遍承认的教练员认证证书。
A7: S1.3 体育活动频率和质量 | B7: 教练员与运动员的人数比例 | C7: 持证教练员与运动员人数的平均比例低于1:20。 | D7: 持证教练员与运动员人数的平均比例低于1:16。 | E7: 持证教练员与运动员人数的平均比例低于1:12。
B8: 融合运动 | C8: 成员组织为在社区、学校或大学开展的至少一个运动项目上提供单项融合运动模式（娱乐休闲型、运动员发展型或者竞赛型）。5%的运动员参加融合运动。 | D8: 成员组织在至少两个运动项目上和为两个环境（社区、中小学、大学）提供两种融合运动模式。10%的运动员参加融合运动。 | E8: 成员组织为在至少三个运动项目上为三个环境提供所有三种融合运动模式。15%的运动员参加融合运动。
B9: 运动员发展模式（ADM） | C9: 成员组织鼓励运动员参与运动员发展模式（ADM）中任一阶段的活动（运动基础、学习到训练、训练到比赛、休闲运动）。 | D9: 成员组织鼓励运动员和融合伙伴至少参与ADM渐进模式两个阶段的活动。 | E9: 成员组织采用了ADM渐进模式的3-4级训练内容，这就进阶为综合运动员发展模式。
B10: 参赛频率 | C10: 每个赛季，所有运动员/融合伙伴在教练员指导下进行训练，至少每周进行一次特奥体育项目训练（*训练时间=60分钟，中高强度）。 | D10: 每个赛季，50%的运动员/融合伙伴在教练员指导下进行训练，至少每周进行1次特奥体育项目训练，另外在持证教练/体能教练指导下或要求下额外增加一次训练或体能训练（每周120分钟）。 | E10: 每个赛季，75%的运动员/融合伙伴在教练员指导下进行训练，至少每周进行1次特奥体育项目训练，另外在持证教练/体能教练指导下或要求下额外增加一次训练或体能训练（每周120分钟）。
B11: 运动器械与设施 | C11: 按照安全规程规定，采用基础性体育设施、器械和服装开展训练。 | D11: 采用与主流体育项目类似的特许运动设施、器械和服装开展训练。 | E11: 采用符合国家/国际标准的运动设施、器械和服装开展训练。
B12: 比赛频率 | C12: 对于成员组织开展的每一项体育运动项目，运动员/融合伙伴每年都至少有1次参赛机会。至少有一场线上比赛。 | D12: 对于成员组织开展的每一项体育运动项目，运动员/融合伙伴每年都至少有3次参赛机会。至少有两场线上比赛。 | E12: 运动员/融合伙伴全年都有参加联赛的机会。成员组织至少组织三场线上比赛。
B13: 比赛质量 | C13: 比赛管理人员确保每场比赛都严格遵守了特殊奥林匹克体育规则。提前公布比赛日程表。 | D13: 首席技术主管达到体育运动管理机构对同等级比赛的最低认证要求。 | E13: 所有活动都应配置技术人员和专业裁判，即使地方性活动也不例外。
B14: 幼儿运动员计划 | C14: 成员组织每年都会提供许多机会，欢迎儿童参加幼儿运动员计划（2-7岁）。 | D14: 在三项幼儿运动员发展模式中，成员组织提供其中两项（学校、社区或家庭），并将幼儿运动员信息登录到运动会管理系统（GMS）、Connect或本地数据库中。 | E14: 成员组织为幼儿运动员设计具有衔接性和可扩展性的活动，至少持续8周，同时根据幼儿运动员计划为儿童参加其他特奥项目提供过渡。
A15: S1.4 地方合作关系 | B15: 体育项目合作 | C15: 成员组织要与体育运动管理机构或其他体育相关组织建立合作关系，因为他们可以提供参加高水准体育项目训练和比赛的机会。 | D15: 成员组织与体育运动管理机构/授权体育相关组织建立合作伙伴关系，发展至少50%的体育运动项目，其中包括获取教练员支持和教练员培训。 | E15: 成员组织与体育运动管理机构/授权体育相关组织运动项目。
A16: S1.5健康与福祉一体化 | B16: 健身频率 | C16: 成员组织通过健康项目、上岗培训和在线活动向运动员、融合伙伴、教练员、家庭说明健康和健身的重要性。 | D16: 除运动员健康计划的活动外，成员组织提供至少为期6周的健康和健身项目，每年至少有10%的运动员参加这一项目。 | E16: 除运动员健康计划的活动外，成员组织还为运动员制定有融合伙伴、教练员和家庭共同参与的年度健康和健身训练计划，每年至少有20%的运动员参加这一项目。
B17: 健身质量 | C17: 体育训练是教练员根据自身经验指定的常规性热身、放松和健身项目（如体能训练、营养知识）。 | D17: 体育训练活动是教练员或体能教练为特定体育项目专门指定的热身、放松和健身项目（如体能训练、营养培训）。 | E17: 成员组织加强运动员/融合伙伴的各项健身记录（例如，每日活动量、锻炼或训练日志、营养日志、健身指标）。
B18: 健康与保健 | C18: 训练设施和比赛场地可提供多种健康食品和饮料。 | D18: 所有大型比赛均设有表演站。 | E18: 只有地方性比赛设有表演站。
B19: 运动员健康计划 | C19: 成员组织每年直接或委托合作（例如与健康诊所）组织开展至少一次健康筛查活动和一次线上活动（家庭健康论坛、线上健康运动员计划、在线或基于APP的体能指标跟踪）。 | D19: 成员组织每年直接或委托伙伴组织运动员健康计划体检筛查，或者开展至少三项健康筛查活动及两次线上活动（家庭健康论坛、在线或基于APP的体能指标记录）。 | E19: 成员组织每年直接或委托伙伴组织运动员健康计划体检筛查，或者开展所有健康筛查活动及三项其他线上活动（家庭健康论坛、在线或基于APP的体能指标跟踪）。

Sheet S2
A1: ='S1'!A1 -> 战略计划参考 | B1: ='S1'!B1 -> PQS领域 | C1: ='S1'!C1 -> 阶段1 | D1: ='S1'!D1 -> 阶段2 | E1: ='S1'!E1 -> 阶段3 | F1: ='S1'!F1 -> 当前阶段 | G1: ='S1'!G1 -> 目标阶段 | H1: ='S1'!H1 -> 高优先级 | ... K1: ='S1'!K1 -> 进度报告说明
A2: S2.1技能与知识面 | B2: 医疗卫生领域的专业人员 | C2: 成员组织鼓励医疗卫生领域专业人员和学生积极参加培训和实践活动。 | D2: 成员组织与一所大学或专业协会联合招募医疗卫生领域专业人员和学生参与培训和实践活动。 | E2: 成员组织与多所大学和/或专业协会联合招募医疗卫生专业人员和学生参与培训和实践活动。
B3: 运动员领袖培训 | C3: 成员组织提供两个运动员领导力核心培训模块。 | D3: 成员组织提供一门进阶领袖课程和特奥会工作培训。 | E3: 成员组织与外部组织合作为运动员领袖提供个性化培训服务（如交流培训）。
A4: S2.2融合学校 | B4: 融合学校 | C4: 成员组织与至少一个区域的教育机构（例如中小学、大学）建立合作关系，联合招募并吸引智障和非智障青少年参加特奥会活动。 | D4: 成员组织与教育机构联合开展融合体育和教育活动（例如融合运动、青少年领袖峰会）。 成员组织致力于将融合学校转型为融合示范学校。 | E4: 成员组织在国内或省内中心区域大力推广融合示范学校的成功经验。
A5: S2.3运动员的内部工作/职责 | B5: 运动员领导力架构 | C5: 成员组织设立运动员委员会，为成员组织领导和决策人提供有用的意见和建议。 | D5: 成员组织成立运动员领袖委员会，在成员组织决策和项目实施过程中发挥重要作用。 | E5: 所有委员会、项目规划和实施活动让运动员像委员会成员或领袖一样完全融入其中。
B6: 运动员领袖的职责 | C6: 成员组织可以让运动员得到良好的训练，并承担非常重要的领导职位（如发言人、教练员、健康信使）。 | D6: 成员组织将运动员安排在实习生或无薪岗位，落实项目安排，在既定项目领域、赛事和活动中聘用训练有素的运动员领袖。 | E6: 成员组织招聘一位运动员作为正式员工。训练有素的运动员领袖不仅能培养其他运动员领袖，还可以对成员组织的员工进行培训。
A7: S2.4运动员与青少年教育融合 | B7: 以运动员和青少年领袖为代言人 | C7: 成员组织邀请青少年和运动员与外部团体一起参加活动（如在地方性比赛开幕式上发表演讲或介绍外部演讲嘉宾）。 | D7: 成员组织为青少年/运动员与外部团体开展有意义和可持续的交流创造机会（例如，邀请地方官员莅临融合示范学校观看融合运动比赛及与学生共进午餐）。 | E7: 成员组织让青少年和运动员参与活动的计划和实施，以及定期与外部团体接触。
B8: 青少年领导力 | C8: 成员组织积极招募青少年参加特奥会。 | D8: 成员组织通过组织各种活动使青少年的心态和举止都具有包容性（如青少年领袖峰会、培训等）。 | E8: 所有委员会、项目规划和实施活动都可以促使青少年像团队成员或领袖一样完全融入其中。

Sheet S3
A1: ='S1'!A1 -> 战略计划参考 | B1: ='S1'!B1 -> PQS领域 | C1: ='S1'!C1 -> 阶段1 | D1: ='S1'!D1 -> 阶段2 | E1: ='S1'!E1 -> 阶段3 | F1: ='S1'!F1 -> 当前阶段 | G1: ='S1'!G1 -> 目标阶段 | H1: ='S1'!H1 -> 高优先级 | ... K1: ='S1'!K1 -> 进度报告说明
A2: S3.1高级别系统变革 | B2: 政府关系* （若成员组织认为这样做恰当） | C2: 成员组织对政府组织架构进行分析，并与政府机构建立联络关系。相关政府官员出席特奥会活动及/或会见特奥会代表。 | D2: 成员组织与愿意借助自身影响力，通过政策制定或资源分配履行特奥会使命推进特奥会工作及加强智障人群权益的政府机构建立稳固的合作关系。 | E2: 政府主管人员在制定涉及包容性和残疾人的政策时自动将特奥会纳入其中。
B3: 非政府组织和服务性组织 | C3: 成员组织至少与一家工作内容互补且有益于特奥会发展的非政府组织、政府间组织、半政府组织或服务性组织合作（如国际狮子会、联合国儿童基金会）。 | D3: 成员组织至少与两家工作内容互补且有益于特奥会发展的非政府组织、政府间组织、半政府组织或服务性组织建立合作关系。 | E3: 成员组织至少与两家能为特奥会项目安排提供直接支持非政府组织、政府间组织、半政府组织或服务性组织建立合作关系。
A4: S3.2包容性组织 | B4: 外部合作 | C4: 成员组织通过与外部组织（如企业、体育联合会、医疗卫生机构、学区）开展协作提升公众意识，让他们认识到推动智障人群融入正常社会生活的必要性。 | D4: 成员组织针对外部组织围绕“实施融合领导力方案，提升所在组织包容性”开展专项培训。由运动员领袖为外部教育项目提供指导 | E4: 成员组织与外部组织大力合作，帮他们改革之前的政策和做法，进一步提升对智障人群的包容性。
A5: S3.3.通过比赛实现系统变革 | B5: 高级别合作 | C5: 成员组织举办的比赛邀请高级别专家、有影响力的体育名人、政府、企业、教育或医疗卫生领域领导参加（如发言、小组讨论等）。 | D5: 成员组织举办的比赛设置讨论和/或公告环节，邀请高级别专家、有影响力的体育名人、政府、企业、教育或医疗卫生领域领导参与，围绕“以制定政策或调配资源手段提升社会对智障人群包容性”展开讨论。 | E5: 成员组织举办的比赛是一个知名度高且具有权威性的平台，外部合作伙伴可用它来发布公告，号召提高智障人群生活状态，或者不再拘泥于特奥会和/或智障人群，解决更广义的包容性问题。
B6: 比赛/活动质量 | C6: 成员组织举办的比赛按照日程安排举行，遵守特奥会章程规定的各项基本规程，包括以运动员为焦点的开幕和闭幕式、颁奖典礼，并邀请有影响力的外部领导/名人参加。 | D6: 成员组织举办的比赛专门为有影响力的特邀嘉宾设立了现场教育环节，让他们与运动员进行互动。 | E6: 成员组织举办的比赛面向有影响力的特邀嘉宾树立良好的品牌形象，精心准备各种活动，确保特奥会给他们留下积极、专业的印象。

Sheet E1
A1: ='S1'!A1 -> 战略计划参考 | B1: ='S1'!B1 -> PQS领域 | C1: ='S1'!C1 -> 阶段1 | D1: ='S1'!D1 -> 阶段2 | E1: ='S1'!E1 -> 阶段3 | F1: ='S1'!F1 -> 当前阶段 | G1: ='S1'!G1 -> 目标阶段 | H1: ='S1'!H1 -> 高优先级 | ... K1: ='S1'!K1 -> 进度报告说明
A2: E1.1 数字平台 | B2: 内部交流 | C2: 成员组织通过传统技术手段（如电子邮件、Facebook等）和定期线上活动吸引成员参加其组织的活动。 | D2: 成员组织通过高新科技（例如Zoom、应用程序）吸引成员参加其组织的活动。下级组织定期举办线上活动。 | E2: 成员组织通过定制APP或技术吸引成员参加其组织的活动，同时开发先进的系统平台，便于员工与志愿者分享线上信息（如筹款、营销、社交媒体、通讯APP）。
A3: E1.2数字内容 | B3: 内容创建和分析 | C3: 成员组织利用国际特奥会或区域办公室在网站、社交媒体或电子杂志和/或实体印刷条幅、海报或宣传册上创建的数字内容。 | D3: 成员组织在网站、社交媒体和/或电子杂志上发布原创数字内容，吸引志愿者或合作伙伴/赞助商参与到数字内容的创建过程中来。 | E3: 成员组织指派专人或特定机构负责通过各大网站、社交媒体和电子杂志上全年发布的数字内容进行创建和分析。
A4: E1.3数据管理 | B4: 比赛管理 | C4: 成员组织通过电子数据表或数据库收集和管理地方/省/全国比赛数据。 | D4: 成员组织通过不同层级的比赛管理系统（例如GMS或SO Connect）记录比赛数据，保证数据一致性，并定期进行更新。参赛代表团需在报名截止日期前报名登记。 | E4: 成员组织采用网络运动会管理系统（例如GMS或SO Connect）进行数据收集。比赛结果按统一规则统计，确保公平可信，可供随时查询，以吸引粉丝和地方媒体参与。
B5: 数据一致性 | C5: 成员组织维护运动员、融合伙伴、教练员、家庭成员和志愿者的基本信息（例如，姓名、人口统计数据和联系方式），并收集捐助人、名人和粉丝数据。 | D5: 成员组织采用GMS或SO Connect维护重要参赛者的最新数据，包括参赛信息（例如参赛项目、比赛结果）和教练认证信息，并追踪捐助人/明星/粉丝的参与情况。 | E5: 成员组织依托GMS或SO Connect中的参赛数据进行战略决策。成员组织的数据库含有外部教练证书的详细信息，有助于对需要换发新证的教练员进行管理。
B6: 线上参与 | C6: 成员组织采用一种统计线上活动参与人数的方法（例如，社交媒体账户持有的粉丝量）。 | D6: 成员组织采用一种统计线上活动参与人数、程度和频率的方法。 | E6: 成员组织持续统计线上活动参与程度，并且将统计结果战略性应用于实践，确保成员充分参与活动和宣传，并留下深刻的印象。
B7: 运动员健康数据 | C7: 在运动员健康计划活动期间或活动后，成员组织可从网上收集其健康筛查活动数据，还可下载健康筛查报告。 | D7: 成员组织采用数字技术收集健身/幼儿运动员或者健康教育、运动员健康计划筛查和训练数据（医疗卫生领域专业人员、健康信使 ）。 | E7: 成员组织收集并提供健康筛查数据，推动国际特奥会健康研究和评估工作的顺利开展。
A8: E1.4安全的网络环境 | B8: 技术软件 | C8: 成员组织采用基础的计算机应用程序进行办公室和成员组织管理，同时采用基础的数据备份系统，并安装病毒防护软件。 | D8: 成员组织采用安全的数据存储系统和基于云的备份系统，用于存储和共享文档、照片、数字工具和文件。 | E8: 成员组织采用可行的解决方案（例如基于云的文件共享、视频电话会议）开展现场办公或线上办公，实施综合性信息安全措施和政策，并定期开展技术检测。
A9: E1.5数字现代化 | B9: 技术设施 | C9: 成员组织拥有基本的配置宽带网络和设备（电话、电脑），专门用于收发特奥会往来邮件，并制定内部通用的技术改进计划。 | D9: 成员组织统一采用网络专线和设备，并针对所有主要业务领域制定综合性技术改进计划。 | E9: 成员组织采用先进的宽带网络、必要设备和服务，以及优化项目安排的技术策略（例如，健康运动员为跟进项目进度收集实时数据并与相关合作伙伴分享用的平板电脑）。

Sheet E2
A1: ='S1'!A1 -> 战略计划参考 | B1: ='S1'!B1 -> PQS领域 | C1: ='S1'!C1 -> 阶段1 | D1: ='S1'!D1 -> 阶段2 | E1: ='S1'!E1 -> 阶段3 | F1: ='S1'!F1 -> 当前阶段 | G1: ='S1'!G1 -> 目标阶段 | H1: ='S1'!H1 -> 高优先级 | ... K1: ='S1'!K1 -> 进度报告说明
A2: E2.1-E2.3建立战略合作伙伴关系 | B2: 捐助人管理与表彰 | C2: 成员组织采用基本的表彰方法授予捐助人相应权利和福利，感谢其给予的大力支持（例如感谢信）。 | D2: 成员组织积极发掘捐助人，并按照既定的权利和福利计划对他们表示感谢。 | E2: 成员组织以书面战略规划及内外部筹款经验为依据，进一步加强与主要捐助人的合作纽带。
B3: 政府关系* （若成员组织认为这样做恰当） | C3: 成员组织与政府机构携手为特奥会活动筹集资金（现金/现金等价物）。 | D3: 成员组织携手一个或多个政府部门为特奥会项目安排（独立活动）筹集资金（现金/现金等价物）。 | E3: 成员组织至少获得一个政府部门的正式承诺（如谅解备忘录），同意以现金/现金等价物形式为特奥会既定项目领域/活动（例如体育项目）提供资金援助。
A4: E2.4-E2.5筹款能力 | B4: 规划和资源 | C4: 成员组织实施基本的筹款计划，参加国际特奥会/区域办公室牵头举办的筹款培训和最佳实践分享会。成员组织有能力撰写/展示规定筹款材料和提案 | D4: 成员组织制定筹款计划，包括筹款目标、筹款材料、指定员工/志愿者及潜在资助人的来源渠道，并且每个资助人都经过充分调查。 | E4: 成员组织在专业人员指导下制定多年期筹款计划，并撰写专业的提案材料，包括赞助商权益和福利一揽子方案。成员组织与合作伙伴联合申请补助金。
A5: E2.6-E2.7资金渠道多元化 | B5: 资金来源多元化 | C5: 除国际特奥会（如外部补助金）外，成员组织至少还有一个可以缓解预算压力的现金经费来源，同时接受两批或以上可缓解预算压力的实物捐赠或服务。 | D5: 成员组织有三个或以上现金经费来源，及三批或以上实物捐赠或服务。成员组织需对当前经费来源开展风险分析，每年至少增加一个经费来源。 | E5: 成员组织有五个或以上由不同捐助人捐赠、要求用于不同既定项目环节的现金经费来源，接受五批或以上实物捐赠或服务，并巩固多年稳定的经费来源。
B6: 全球筹款计划 | C6: 成员组织可实时获取区域的/全球性筹款活动的信息。 | D6: 成员组织积极参加区域的/全球性筹款活动。成员组织在适当条件下通过全球/区域伙伴关系进行筹款。 | E6: 成员组织积极参与区域的/全球性筹款活动，并根据所在市场特点制定个性化筹款计划，以扩大品牌知名度，尽可能地获得更多资金。

Sheet E3
A1: ='S1'!A1 -> 战略计划参考 | B1: ='S1'!B1 -> PQS领域 | C1: ='S1'!C1 -> 阶段1 | D1: ='S1'!D1 -> 阶段2 | E1: ='S1'!E1 -> 阶段3 | F1: ='S1'!F1 -> 当前阶段 | G1: ='S1'!G1 -> 目标阶段 | H1: ='S1'!H1 -> 高优先级 | ... K1: ='S1'!K1 -> 进度报告说明
A2: E3.1品牌知名度 | B2: 社交媒体影响力 | C2: 成员组织通过至少在一个平台持续发布着重报道运动员的新闻和体育活动资讯，增强社交媒体影响力。 | D2: 成员组织在线平台（社交媒体或网站）由专业人员负责设计和管理。成员组织战略性运用社交媒体为市场推广活动造势。 | E2: 成员组织的社交媒体平台和网站都内嵌互动功能，可吸引公众参与（如线上捐赠）。成员组织采用社交媒体分析数据调整市场营销活动。
B3: 媒体报道 | C3: 成员组织确保至少有一个年度重大事件、比赛或活动得到媒体广泛报道。 | D3: 成员组织确保每个季度都有一个重大事件、比赛或活动得到媒体广泛报道。 | E3: 成员组织积极寻求并确保全年有关于组织的媒体报道。
B4: 合作关系 | C4: 成员组织与公关、市场营销、交流和/或媒体领域专业人员保持联络，以获得必要的指导和支持。 | D4: 成员组织至少针对一家公关、营销机构和/或媒体制定实物捐助方案。 | E4: 成员组织至少针对一家公关、营销机构和/或媒体机构制定正式赞助/合作方案。
B5: 品牌形象 | C5: 成员组织按照特奥会品牌形象指南使用统一的数字和传统材料（例如数字标志、条幅、T恤）。 | D5: 成员组织开展市场分析，并按照数字和传统品牌指南使用成员组织和附属组织工具和材料（如网站、制服）。 | E5: 成员组织统一按照线上和传统品牌形象指南使用不同层级的材料，不断提升品牌的外部形象。
A6: E3.2 依托全球性特奥活动 | B6: 全球性整合 | C6: 成员组织依托国际特奥会提供的全球性特奥活动数据（如特殊奥林匹克世界运动会）提升公众意识。 | D6: 成员组织每年都举办该组织的宣传活动，增强人们对至少一项全球性特奥活动的认知。 | E6: 成员组织将全球性特奥活动/宣传活动纳入其多年营销计划，以充分利用一切机会提升公众对特奥会的认识。
A7: E3.3依托外部活动 | B7: 外部整合 | C7: 成员组织通过参加外部团体组织的活动提升公众对特奥会的认识。 | D7: 成员组织与外部活动组织方至少签订一项协议，通过他们的活动提升公众对特奥会的认识。 | E7: 成员组织签订多项外部活动协议，其中至少有一项是全国性或省级活动，借以宣传推广特奥会，提升公众对智障人群的包容度。
A8: E3.4运动员领袖培养意识 | B8: 与明星联合宣传推广 | C8: 成员组织至少邀请一位有知名度和影响力的公众人物与运动员领袖联袂宣传推广特奥会，这种活动每年至少举办一次 | D8: 成员组织至少邀请两位有知名度和影响力的公众人物与运动员领袖联袂宣传推广特奥会，这种活动每年至少组织三次 | E8: 成员组织至少邀请三位有知名度和影响力的公众人物全年与运动员领袖一起参加活动，提升公众对特奥会的认识。
B9: 突出运动员才能 | C9: 成员组织以社交媒体为载体宣传运动员取得的成就，尤其是体育运动方面的成就。 | D9: 成员组织邀请运动员领袖作为主要代言人，并实施有效策略，使运动员领袖得到广泛报道。 | E9: 成员组织与当地、地方或国家级电视/广播/网络媒体机构合作宣传运动员和运动员领袖取得的成就（如纪录片、专题报道）。
A10: E3.5-E3.7本地市场推广宣传 | B10: 地方组织的能力 | C10: 成员组织确保地方性特奥会组织（俱乐部）经过必要培训，并拥有在当地开展公关活动的必备资质材料。 | D10: 成员组织制定健全的战略规划，地方特奥会组织（俱乐部）可按照规划提升其在当地的知名度。 | E10: 成员组织通过捐助人或媒体伙伴关系帮助地方性特奥会组织（俱乐部）提升其在当地的知名度。

Sheet E4
A1: ='S1'!A1 -> 战略计划参考 | B1: ='S1'!B1 -> PQS领域 | C1: ='S1'!C1 -> 阶段1 | D1: ='S1'!D1 -> 阶段2 | E1: ='S1'!E1 -> 阶段3 | F1: ='S1'!F1 -> 当前阶段 | G1: ='S1'!G1 -> 目标阶段 | H1: ='S1'!H1 -> 高优先级 | ... K1: ='S1'!K1 -> 进度报告说明
A2: E4.1融合领导力 | B2: 融合领导力 | C2: 成员组织面向员工、董事会、志愿者开展融合领导力的内部培训。成员组织领导有效识别并针对各级别运动员领袖进行任务分配。 | D2: 成员组织致力于对外部组织开展教育活动，让他们深入了解由运动员主导或联合主导的融合领导力。 | E2: 成员组织在运动员领袖的独立协调或联合协调下挖掘并充分利用一切外部机会（比如各种会议）大力宣传推广融合领导力。
A3: E4.2领导力发展 | B3: 培训和发展 | C3: 成员组织确保所有员工和重要志愿者上岗前都经过规定培训。 | D3: 成员组织采用结构化方法培养和促进员工和重要志愿者发展，以改进成员组织的运作方式，并为继任计划提供支持。 | E3: 重要志愿者和员工有机会成为主题专家，致力于探索更优秀的内部和外部实践做法。
A4: E4.3董事会 | B4: 战略性招募 | C4: 成员组织积极招募新的董事会成员，并告知董事会该成员在成员组织满足年度、短期和长期需求方面发挥的重要作用。 | D4: 成员组织定期对董事会成员多样性和技能进行评估，并开展战略性招募，确保人员结构多样性，填补技能缺口。 | E4: 成员组织吸纳外部专业知识，为招募多元化、资质好和经验丰富的董事会成员提供依据。
B5: 有效参与 | C5: 董事会成员保持活跃，定期出席会议和活动。董事会有专门的常设委员会和特设委员会。 | D5: 董事会积极履行其受托、监督、战略规划及筹款责任，并践行对成员组织的可持续发展承诺。董事会设有多个委员会，并且都有各自的年度目标。 | E5: 成员组织拥有全情投入、成果卓著的董事会，能引导成员组织的工作，并带来各种资源。所有成员根据个人专业特长和/或兴趣至少要加入一个委员会。
B6: 计划性保持活力 | C6: 成员组织确保持续为董事会提供培训和参与的机会。 | D6: 董事会每年至少举行一次会议，培养胜任领导职位的成员（如主管、委员会主席）。 | E6: 董事会每年对每位成员开展独立评估，对董事会开展整体评估，并对领导职位制定继任计划。
A7: E4.4志愿者和员工 | B7: 家庭参与计划 | C7: 成员组织收集家庭基本信息，每年至少为家庭提供一次教育机会。 | D7: 成员组织定期与家庭进行沟通，建立正式的家庭沟通架构，以获取最新信息。至少每年为家庭提供三次教育或交流机会。 | E7: 家庭成员在成员组织内担任领导职位，所有级别都包含在内。成员组织面向家庭规划全年教育和交流活动日程表。
B8: 多样性、公平性与包容性（DE&I） | C8: 成员组织制定DE&I政策，加强内部投入，通过外联、规划和市场推广手段落实DE&I政策。 | D8: 成员组织将DE&I融入日常运营的方方面面，希望能从外部促进并推动DE&I工作。 | E8: 成员组织是实施DE&I政策的领路人，同时也是全国或省内DE&I政策的掌舵人和思想领袖。
B9: 志愿者招募 | C9: 成员组织积极招募新志愿者（如通过线上或现场活动），并为志愿者提供定期培训机会。 | D9: 成员组织制定正规的志愿者招募流程，并制定志愿者留用计划。 | E9: 成员组织吸引各类机构、组织和企业积极参与志愿者招募工作。成员组织留用和/或逐年增加志愿者人数。
B10: 志愿者表彰 | C10: 成员组织对包括教练员在内的员工和志愿者做出一般性表彰（比如感谢信）。 | D10: 成员组织以比较正式的方式表彰员工、志愿者和教练员（例如颁发奖品、组织专项活动）。 | E10: 成员组织与外部表彰/认证伙伴加强合作，提高受表彰志愿者及员工比例和留用率。
B11: 员工绩效 | C11: 成员组织为重要正式员工和/或志愿者领导职位编制职责描述。 | D11: 成员组织设定年度目标，评估担任重要领导职位的正式员工和志愿者的完成进度。 | E11: 成员组织制定正式的员工绩效管理和职业发展流程。
A12: E4.5质量改进 | B12: 活动管理 | C12: 比赛和非运动活动应由受过正规训练的志愿者负责运作，并且分工明确。成员组织采用活动日志愿者专项报名和培训流程。 | D12: 活动志愿者报名、培训和任务分配需提前完成。家庭、媒体和嘉宾只有登录注册系统完成注册后方可参加活动。成员组织开展基本的活动后评估。 | E12: 活动应由经验丰富的团队负责运作，同时他们还对新志愿者进行培训并分派重要任务，征询意见和建议，不断改进活动的运作方式。志愿者通过数字媒体参与活动并为活动贡献力量。由相关机构开展活动评估。
A13: E4.6评估和数据应用 | B13: 数据报告 | C13: 成员组织第一时间提交一致、准确的数据（如人口普查数据、政策调研报告、世界运动会注册信息、补助金划拨报告）。 | D13: 成员组织主动提交重复性数据和补助金划拨报告。☐成员组织对提交的数据进行持续追踪，并以此为依据制定年度计划。 | E13: 成员组织对数据进行跟踪和评估，优化战略决策。成员组织对自身运营和战略计划的实施进度进行持续跟进。
A14: E4.7工具和实践做法 | B14: 财务帐目 | C14: 成员组织分配该组织承担的经费集中管理和银行业务责任。编制年度财务报表（最好是经过审计的）。 | D14: 定期更新月度和年度现金流预测数据。每年审查一次财务政策和流程，并根据实际情况进行适当调整。 | E14: 成员组织每月检查一次财务账目（收入和支出）。
B15: 规划 | C15: 成员组织制定并实施与国际特奥会战略计划相符的年度运营计划，并设定目标、措施、指标、时间表。 | D15: 成员组织制定并落实与国际特奥会战略计划相符的多年（即战略）计划，并设定目标、行动、指标、时间表。 | E15: 成员组织对其年度计划进行持续审查，对战略计划进行年终审查，并依据经验进行适当调整。
B16: 预算 | C16: 成员组织按照董事会审核通过的、与年度计划目标一致的预算开展运营。 | D16: 成员组织预留三个月运营储备金，并实施财务可持续性长期计划。 | E16: 成员组织预留六个月运营储备金。
B17: 风险管理 | C17: 成员组织开展基本风险评估，实施风险应对措施，包括活动前场地检查。成员组织面向员工和重要志愿者组织基本风险管理培训。 | D17: 成员组织开展正式风险评估，包括活动期间的安保和医疗管理等方面。成员组织制定书面风险/危机管理计划。成员组织确保覆盖基本承保范围。 | E17: 成员组织制定并实施风险管理政策和流程。成员组织与执法部门、消防部门和安全部门建立合作关系，以加强活动过程中的风险管理。面向所有赛场工作人员和活动负责人开展风险管理培训（例如活动彩排、桌面演练）。
A18: E4.8内部分工协作 | B18: 内部交流 | C18: 成员组织定期与各级主要利益相关方（如运动员、员工、重要志愿者）进行交流，并定期与地方特奥会组织开展交流活动。 | D18: 成员组织建立互动交流的官方渠道，加强内部利益相关方交流（如社交媒体、聊天群等）。成员组织与地方特奥会组织的其他领导建立合作，分享最佳实践，促进彼此取长补短。 | E18: 成员组织构建交流平台，便于内部利益相关方—特别是员工和志愿者—在项目中分工协作。

Sheet 仪表盘
A2: 成员组织简介
A4: 按战略计划评估成员组织当前阶段摘要
A6: 战略计划领域 | B6: =Data!D2 -> 还未达到阶段1 | C6: =Data!D3 -> 阶段1 | D6: =Data!D4 -> 阶段2 | E6: =Data!D5 -> 阶段3 | F6: =Data!D6 -> 阶段3+
A7: =Data!H2 -> S1 - 提高地方项目活动的质量和覆盖率 | B7: =Data!I12 -> 0 | C7: =Data!J12 -> 0 | D7: =Data!K12 -> 0 | E7: =Data!L12 -> 0 | F7: =Data!M12 -> 0
A8: =Data!H3 -> S2 - 赋能运动员领袖和其他变革者 | B8: =Data!I13 -> 0 | C8: =Data!J13 -> 0 | D8: =Data!K13 -> 0 | E8: =Data!L13 -> 0 | F8: =Data!M13 -> 0
A9: =Data!H4 -> S3 - 健全包容性服务和营造包容性环境 | B9: =Data!I14 -> 0 | C9: =Data!J14 -> 0 | D9: =Data!K14 -> 0 | E9: =Data!L14 -> 0 | F9: =Data!M14 -> 0
A10: =Data!H5 -> E1 - 特奥会运动数字化 | B10: =Data!I15 -> 0 | C10: =Data!J15 -> 0 | D10: =Data!K15 -> 0 | E10: =Data!L15 -> 0 | F10: =Data!M15 -> 0
A11: =Data!H6 -> E2 - 收入渠道多样化 | B11: =Data!I16 -> 0 | C11: =Data!J16 -> 0 | D11: =Data!K16 -> 0 | E11: =Data!L16 -> 0 | F11: =Data!M16 -> 0
A12: =Data!H7 -> E3 - 建立品牌 | B12: =Data!I17 -> 0 | C12: =Data!J17 -> 0 | D12: =Data!K17 -> 0 | E12: =Data!L17 -> 0 | F12: =Data!M17 -> 0
A13: =Data!H8 -> E4 - 促进组织发展 | B13: =Data!I18 -> 0 | C13: =Data!J18 -> 0 | D13: =Data!K18 -> 0 | E13: =Data!L18 -> 0 | F13: =Data!M18 -> 0
A14: =Data!H9 -> 所有战略计划领域 | B14: =Data!I19 -> 0 | C14: =Data!J19 -> 0 | D14: =Data!K19 -> 0 | E14: =Data!L19 -> 0 | F14: =Data!M19 -> 0
A16: 通过战略计划评估成员组织的目标阶段总结
A18: 被确定为高优先级的标准 | C18: =Data!R2 -> 0
A19: 被确定为非优先事项的标准 | C19: =Data!R3 -> 0
A20: 达到最高阶段的标准 | C20: =Data!R4 -> 0
A22: =A6 -> 战略计划领域 | B22: =Data!I32 -> 目前不是优先事项 | C22: =Data!J32 -> 阶段1 | D22: =Data!K32 -> 阶段2 | E22: =Data!L32 -> 阶段3 | F22: =Data!M32 -> 达到最高阶段 | G22: =Data!N32 -> 高优先级
A23: =Data!H2 -> S1 - 提高地方项目活动的质量和覆盖率 | B23: =Data!I33 -> 0 | C23: =Data!J33 -> 0 | D23: =Data!K33 -> 0 | E23: =Data!L33 -> 0 | F23: =Data!M33 -> 0 | G23: =Data!N33 -> 0
A24: =Data!H3 -> S2 - 赋能运动员领袖和其他变革者 | B24: =Data!I34 -> 0 | C24: =Data!J34 -> 0 | D24: =Data!K34 -> 0 | E24: =Data!L34 -> 0 | F24: =Data!M34 -> 0 | G24: =Data!N34 -> 0
A25: =Data!H4 -> S3 - 健全包容性服务和营造包容性环境 | B25: =Data!I35 -> 0 | C25: =Data!J35 -> 0 | D25: =Data!K35 -> 0 | E25: =Data!L35 -> 0 | F25: =Data!M35 -> 0 | G25: =Data!N35 -> 0
A26: =Data!H5 -> E1 - 特奥会运动数字化 | B26: =Data!I36 -> 0 | C26: =Data!J36 -> 0 | D26: =Data!K36 -> 0 | E26: =Data!L36 -> 0 | F26: =Data!M36 -> 0 | G26: =Data!N36 -> 0
A27: =Data!H6 -> E2 - 收入渠道多样化 | B27: =Data!I37 -> 0 | C27: =Data!J37 -> 0 | D27: =Data!K37 -> 0 | E27: =Data!L37 -> 0 | F27: =Data!M37 -> 0 | G27: =Data!N37 -> 0
A28: =Data!H7 -> E3 - 建立品牌 | B28: =Data!I38 -> 0 | C28: =Data!J38 -> 0 | D28: =Data!K38 -> 0 | E28: =Data!L38 -> 0 | F28: =Data!M38 -> 0 | G28: =Data!N38 -> 0
A29: =Data!H8 -> E4 - 促进组织发展 | B29: =Data!I39 -> 0 | C29: =Data!J39 -> 0 | D29: =Data!K39 -> 0 | E29: =Data!L39 -> 0 | F29: =Data!M39 -> 0 | G29: =Data!N39 -> 0
A30: =Data!H9 -> 所有战略计划领域 | B30: =Data!I40 -> 0 | C30: =Data!J40 -> 0 | D30: =Data!K40 -> 0 | E30: =Data!L40 -> 0 | F30: =Data!M40 -> 0 | G30: =Data!N40 -> 0
A32: ='E4'!J1 -> 进度报告 从下拉列表中选择进度状态
A34: =Data!U2 -> 不适用 | B34: =Data!W2 -> 0
A35: =Data!U3 -> 完全的 | B35: =Data!W3 -> 0
A36: =Data!U4 -> 步入正軌 | B36: =Data!W4 -> 0
A37: =Data!U5 -> 稍微偏離軌道 | B37: =Data!W5 -> 0
A38: =Data!U6 -> 不在軌道上 | B38: =Data!W6 -> 0

Sheet Data
A1: Region | B1: Programas | C1: =介绍!A41 -> 自我评估 | D1: ='S1'!F1 -> 当前阶段 | E1: ='S1'!G1 -> 目标阶段 | F1: ='S1'!H1 -> 高优先级 | G1: Total standards | H1: Count of current stages by PQS area | I1: =D2 -> 还未达到阶段1 | J1: =D3 -> 阶段1 | K1: =D4 -> 阶段2 | L1: =D5 -> 阶段3 | M1: =D6 -> 阶段3+ | N1: Etapa 3 or 3+ | O1: Total | Q1: Prioridade | R1: Number of standards | S1: % | U1: Отчет о проделанной работе
A2: SOA | B2: Afghanistan | C2: =O9/G9 -> 0 | D2: 还未达到阶段1 | E2: 目前不是优先事项 | F2: ↑ | G2: =COUNTA('S1'!B2:B19) -> 18 | H2: S1 - 提高地方项目活动的质量和覆盖率 | I2: =COUNTIF('S1'!F:F, Data!$D$2) -> 0 | J2: =COUNTIF('S1'!F:F, Data!$D$3) -> 0 | K2: =COUNTIF('S1'!F:F, Data!$D$4) -> 0 | L2: =COUNTIF('S1'!F:F, Data!$D$5) -> 0 | M2: =COUNTIF('S1'!F:F, Data!$D$6) -> 0 | N2: =SUM(L2:M2) -> 0 | O2: =SUM(I2:M2) -> 0 | Q2: 被确定为高优先级的标准 | R2: =SUM(COUNTA('S1'!H2:H19),COUNTA('S2'!H2:H8), COUNTA('S3'!H2:H6), COUNTA('E1'!H2:H9), COUNTA('E2'!H2:H6), COUNTA('E3'!H2:H10), COUNTA('E4'!H2:H18)) -> 0 | S2: =R2/$R$5 -> 0 | U2: 不适用 | V2: =SUM(COUNTIF('S1'!J:J, U2),COUNTIF('S2'!J:J, U2), COUNTIF('S3'!J:J, U2), COUNTIF('E1'!J:J, U2), COUNTIF('E2'!J:J, U2), COUNTIF('E3'!J:J, U2), COUNTIF('E4'!J:J, U2)) -> 0 | W2: =V2/$R$5 -> 0
A3: SOAP | B3: Alabama | D3: 阶段1 | E3: 阶段1 | G3: =COUNTA('S2'!B2:B8) -> 7 | H3: S2 - 赋能运动员领袖和其他变革者 | I3: =COUNTIF('S2'!F:F, Data!$D$2) -> 0 | J3: =COUNTIF('S2'!F:F, Data!$D$3) -> 0 | K3: =COUNTIF('S2'!F:F, Data!$D$4) -> 0 | L3: =COUNTIF('S2'!F:F, Data!$D$5) -> 0 | M3: =COUNTIF('S2'!F:F, Data!$D$6) -> 0 | N3: =SUM(L3:M3) -> 0 | O3: =SUM(I3:M3) -> 0 | Q3: =E2 -> 目前不是优先事项 | R3: =SUM(COUNTIF('S1'!G:G, E2),COUNTIF('S2'!G:G, E2), COUNTIF('S3'!G:G, E2), COUNTIF('E1'!G:G, E2), COUNTIF('E2'!G:G, E2), COUNTIF('E3'!G:G, E2), COUNTIF('E4'!G:G, E2)) -> 0 | S3: =R3/$R$5 -> 0 | U3: 完全的 | V3: =SUM(COUNTIF('S1'!J:J, U3),COUNTIF('S2'!J:J, U3), COUNTIF('S3'!J:J, U3), COUNTIF('E1'!J:J, U3), COUNTIF('E2'!J:J, U3), COUNTIF('E3'!J:J, U3), COUNTIF('E4'!J:J, U3)) -> 0 | W3: =V3/$R$5 -> 0
A4: SOEA | B4: Alaska | D4: 阶段2 | E4: 阶段2 | G4: =COUNTA('S3'!B2:B6) -> 5 | H4: S3 - 健全包容性服务和营造包容性环境 | I4: =COUNTIF('S3'!F:F, Data!$D$2) -> 0 | J4: =COUNTIF('S3'!F:F, Data!$D$3) -> 0 | K4: =COUNTIF('S3'!F:F, Data!$D$4) -> 0 | L4: =COUNTIF('S3'!F:F, Data!$D$5) -> 0 | M4: =COUNTIF('S3'!F:F, Data!$D$6) -> 0 | N4: =SUM(L4:M4) -> 0 | O4: =SUM(I4:M4) -> 0 | Q4: =E6 -> 达到最高阶段 | R4: =SUM(COUNTIF('S1'!G:G, E6),COUNTIF('S2'!G:G, E6), COUNTIF('S3'!G:G, E6), COUNTIF('E1'!G:G, E6), COUNTIF('E2'!G:G, E6), COUNTIF('E3'!G:G, E6), COUNTIF('E4'!G:G, E6)) -> 0 | S4: =R4/$R$5 -> 0 | U4: 步入正軌 | V4: =SUM(COUNTIF('S1'!J:J, U4),COUNTIF('S2'!J:J, U4), COUNTIF('S3'!J:J, U4), COUNTIF('E1'!J:J, U4), COUNTIF('E2'!J:J, U4), COUNTIF('E3'!J:J, U4), COUNTIF('E4'!J:J, U4)) -> 0 | W4: =V4/$R$5 -> 0
A5: SOEE | B5: Albania | D5: 阶段3 | E5: 阶段3 | G5: =COUNTA('E1'!B2:B9) -> 8 | H5: E1 - 特奥会运动数字化 | I5: =COUNTIF('E1'!F:F, Data!$D$2) -> 0 | J5: =COUNTIF('E1'!F:F, Data!$D$3) -> 0 | K5: =COUNTIF('E1'!F:F, Data!$D$4) -> 0 | L5: =COUNTIF('E1'!F:F, Data!$D$5) -> 0 | M5: =COUNTIF('E1'!F:F, Data!$D$6) -> 0 | N5: =SUM(L5:M5) -> 0 | O5: =SUM(I5:M5) -> 0 | Q5: Total standards | R5: =COUNTA('S1'!B2:B19)+COUNTA('S2'!B2:B8)+COUNTA('S3'!B2:B6)+COUNTA('E1'!B2:B9)+COUNTA('E2'!B2:B6)+COUNTA('E3'!B2:B10)+COUNTA('E4'!B2:B18) -> 69 | U5: 稍微偏離軌道 | V5: =SUM(COUNTIF('S1'!J:J, U5),COUNTIF('S2'!J:J, U5), COUNTIF('S3'!J:J, U5), COUNTIF('E1'!J:J, U5), COUNTIF('E2'!J:J, U5), COUNTIF('E3'!J:J, U5), COUNTIF('E4'!J:J, U5)) -> 0 | W5: =V5/$R$5 -> 0
A6: SOLA | B6: Algeria | D6: 阶段3+ | E6: 达到最高阶段 | G6: =COUNTA('E2'!B2:B6) -> 5 | H6: E2 - 收入渠道多样化 | I6: =COUNTIF('E2'!F:F, Data!$D$2) -> 0 | J6: =COUNTIF('E2'!F:F, Data!$D$3) -> 0 | K6: =COUNTIF('E2'!F:F, Data!$D$4) -> 0 | L6: =COUNTIF('E2'!F:F, Data!$D$5) -> 0 | M6: =COUNTIF('E2'!F:F, Data!$D$6) -> 0 | N6: =SUM(L6:M6) -> 0 | O6: =SUM(I6:M6) -> 0 | U6: 不在軌道上 | V6: =SUM(COUNTIF('S1'!J:J, U6),COUNTIF('S2'!J:J, U6), COUNTIF('S3'!J:J, U6), COUNTIF('E1'!J:J, U6), COUNTIF('E2'!J:J, U6), COUNTIF('E3'!J:J, U6), COUNTIF('E4'!J:J, U6)) -> 0 | W6: =V6/$R$5 -> 0
A7: SOMENA | B7: American Samoa | G7: =COUNTA('E3'!B2:B10) -> 9 | H7: E3 - 建立品牌 | I7: =COUNTIF('E3'!F:F, Data!$D$2) -> 0 | J7: =COUNTIF('E3'!F:F, Data!$D$3) -> 0 | K7: =COUNTIF('E3'!F:F, Data!$D$4) -> 0 | L7: =COUNTIF('E3'!F:F, Data!$D$5) -> 0 | M7: =COUNTIF('E3'!F:F, Data!$D$6) -> 0 | N7: =SUM(L7:M7) -> 0 | O7: =SUM(I7:M7) -> 0 | U7: Total | V7: =SUM(V3:V6) -> 0 | W7: =V7/$R$5 -> 0
A8: SONA | B8: Andorra | G8: =COUNTA('E4'!B2:B18) -> 17 | H8: E4 - 促进组织发展 | I8: =COUNTIF('E4'!F:F, Data!$D$2) -> 0 | J8: =COUNTIF('E4'!F:F, Data!$D$3) -> 0 | K8: =COUNTIF('E4'!F:F, Data!$D$4) -> 0 | L8: =COUNTIF('E4'!F:F, Data!$D$5) -> 0 | M8: =COUNTIF('E4'!F:F, Data!$D$6) -> 0 | N8: =SUM(L8:M8) -> 0 | O8: =SUM(I8:M8) -> 0
B9: Antigua and Barbuda | G9: =SUM(G2:G8) -> 69 | H9: 所有战略计划领域 | I9: =SUM(I2:I8) -> 0 | J9: =SUM(J2:J8) -> 0 | K9: =SUM(K2:K8) -> 0 | L9: =SUM(L2:L8) -> 0 | M9: =SUM(M2:M8) -> 0 | N9: =SUM(L9:M9) -> 0 | O9: =SUM(I9:M9) -> 0
B10: Argentina
B11: Arizona | H11: % of current stages by PQS area | I11: =I1 -> 还未达到阶段1 | J11: =J1 -> 阶段1 | K11: =K1 -> 阶段2 | L11: =L1 -> 阶段3 | M11: =M1 -> 阶段3+ | N11: =N1 -> Etapa 3 or 3+ | O11: Total
B12: Arkansas | H12: =H2 -> S1 - 提高地方项目活动的质量和覆盖率 | I12: =I2/$G$2 -> 0 | J12: =J2/$G$2 -> 0 | K12: =K2/$G$2 -> 0 | L12: =L2/$G$2 -> 0 | M12: =M2/$G$2 -> 0 | N12: =N2/$G$2 -> 0 | O12: =SUM(I12:M12) -> 0
B13: Armenia | H13: =H3 -> S2 - 赋能运动员领袖和其他变革者 | I13: =I3/$G$3 -> 0 | J13: =J3/$G$3 -> 0 | K13: =K3/$G$3 -> 0 | L13: =L3/$G$3 -> 0 | M13: =M3/$G$3 -> 0 | N13: =N3/$G$3 -> 0 | O13: =SUM(I13:M13) -> 0
B14: Aruba | H14: =H4 -> S3 - 健全包容性服务和营造包容性环境 | I14: =I4/$G$4 -> 0 | J14: =J4/$G$4 -> 0 | K14: =K4/$G$4 -> 0 | L14: =L4/$G$4 -> 0 | M14: =M4/$G$4 -> 0 | N14: =N4/$G$4 -> 0 | O14: =SUM(I14:M14) -> 0
B15: Australia | H15: =H5 -> E1 - 特奥会运动数字化 | I15: =I5/$G$5 -> 0 | J15: =J5/$G$5 -> 0 | K15: =K5/$G$5 -> 0 | L15: =L5/$G$5 -> 0 | M15: =M5/$G$5 -> 0 | N15: =N5/$G$5 -> 0 | O15: =SUM(I15:M15) -> 0
B16: Austria | H16: =H6 -> E2 - 收入渠道多样化 | I16: =I6/$G$6 -> 0 | J16: =J6/$G$6 -> 0 | K16: =K6/$G$6 -> 0 | L16: =L6/$G$6 -> 0 | M16: =M6/$G$6 -> 0 | N16: =N6/$G$6 -> 0 | O16: =SUM(I16:M16) -> 0
B17: Azerbaijan | H17: =H7 -> E3 - 建立品牌 | I17: =I7/$G$7 -> 0 | J17: =J7/$G$7 -> 0 | K17: =K7/$G$7 -> 0 | L17: =L7/$G$7 -> 0 | M17: =M7/$G$7 -> 0 | N17: =N7/$G$7 -> 0 | O17: =SUM(I17:M17) -> 0
B18: Bahamas | H18: =H8 -> E4 - 促进组织发展 | I18: =I8/$G$8 -> 0 | J18: =J8/$G$8 -> 0 | K18: =K8/$G$8 -> 0 | L18: =L8/$G$8 -> 0 | M18: =M8/$G$8 -> 0 | N18: =N8/$G$8 -> 0 | O18: =SUM(I18:M18) -> 0
B19: Bahrain | H19: =H9 -> 所有战略计划领域 | I19: =I9/$G$9 -> 0 | J19: =J9/$G$9 -> 0 | K19: =K9/$G$9 -> 0 | L19: =L9/$G$9 -> 0 | M19: =M9/$G$9 -> 0 | N19: =N9/$G$9 -> 0 | O19: =SUM(I19:M19) -> 0
B20: Bangladesh
B21: Barbados
B22: Belarus | H22: Count of target stages by PQS area | I22: =E2 -> 目前不是优先事项 | J22: =E3 -> 阶段1 | K22: =E4 -> 阶段2 | L22: =E5 -> 阶段3 | M22: =E6 -> 达到最高阶段 | N22: =F1 -> 高优先级 | O22: Total
B23: Belgium | H23: =H12 -> S1 - 提高地方项目活动的质量和覆盖率 | I23: =COUNTIF('S1'!G:G, Data!$E$2) -> 0 | J23: =COUNTIF('S1'!G:G, Data!$E$3) -> 0 | K23: =COUNTIF('S1'!G:G, Data!$E$4) -> 0 | L23: =COUNTIF('S1'!G:G, Data!$E$5) -> 0 | M23: =COUNTIF('S1'!G:G, Data!$E$6) -> 0 | N23: =COUNTA('S1'!H2:H19) -> 0 | O23: =SUM(I23:M23) -> 0
B24: Belize | H24: =H13 -> S2 - 赋能运动员领袖和其他变革者 | I24: =COUNTIF('S2'!G:G, Data!$E$2) -> 0 | J24: =COUNTIF('S2'!G:G, Data!$D$3) -> 0 | K24: =COUNTIF('S2'!G:G, Data!$D$4) -> 0 | L24: =COUNTIF('S2'!G:G, Data!$D$5) -> 0 | M24: =COUNTIF('S2'!G:G, Data!$D$6) -> 0 | N24: =COUNTA('S2'!H2:H8) -> 0 | O24: =SUM(I24:M24) -> 0
B25: Benin | H25: =H14 -> S3 - 健全包容性服务和营造包容性环境 | I25: =COUNTIF('S3'!G:G, Data!$E$2) -> 0 | J25: =COUNTIF('S3'!G:G, Data!$E$3) -> 0 | K25: =COUNTIF('S3'!G:G, Data!$E$4) -> 0 | L25: =COUNTIF('S3'!G:G, Data!$E$5) -> 0 | M25: =COUNTIF('S3'!G:G, Data!$E$6) -> 0 | N25: =COUNTA('S3'!H2:H6) -> 0 | O25: =SUM(I25:M25) -> 0
B26: Bermuda | H26: =H15 -> E1 - 特奥会运动数字化 | I26: =COUNTIF('E1'!G:G, Data!$E$2) -> 0 | J26: =COUNTIF('E1'!G:G, Data!$E$3) -> 0 | K26: =COUNTIF('E1'!G:G, Data!$E$4) -> 0 | L26: =COUNTIF('E1'!G:G, Data!$E$5) -> 0 | M26: =COUNTIF('E1'!G:G, Data!$E$6) -> 0 | N26: =COUNTA('E1'!H2:H9) -> 0 | O26: =SUM(I26:M26) -> 0
B27: Bharat | H27: =H16 -> E2 - 收入渠道多样化 | I27: =COUNTIF('E2'!G:G, Data!$E$2) -> 0 | J27: =COUNTIF('E2'!G:G, Data!$E$3) -> 0 | K27: =COUNTIF('E2'!G:G, Data!$E$4) -> 0 | L27: =COUNTIF('E2'!G:G, Data!$E$5) -> 0 | M27: =COUNTIF('E2'!G:G, Data!$E$6) -> 0 | N27: =COUNTA('E2'!H2:H6) -> 0 | O27: =SUM(I27:M27) -> 0
B28: Bhutan | H28: =H17 -> E3 - 建立品牌 | I28: =COUNTIF('E3'!G:G, Data!$E$2) -> 0 | J28: =COUNTIF('E3'!G:G, Data!$E$3) -> 0 | K28: =COUNTIF('E3'!G:G, Data!$E$4) -> 0 | L28: =COUNTIF('E3'!G:G, Data!$E$5) -> 0 | M28: =COUNTIF('E3'!G:G, Data!$E$6) -> 0 | N28: =COUNTA('E3'!H2:H10) -> 0 | O28: =SUM(I28:M28) -> 0
B29: Bolivia | H29: =H18 -> E4 - 促进组织发展 | I29: =COUNTIF('E4'!G:G, Data!$E$2) -> 0 | J29: =COUNTIF('E4'!G:G, Data!$E$3) -> 0 | K29: =COUNTIF('E4'!G:G, Data!$E$4) -> 0 | L29: =COUNTIF('E4'!G:G, Data!$E$5) -> 0 | M29: =COUNTIF('E4'!G:G, Data!$E$6) -> 0 | N29: =COUNTA('E4'!H2:H18) -> 0 | O29: =SUM(I29:M29) -> 0
B30: Bonaire | H30: =H19 -> 所有战略计划领域 | I30: =SUM(I23:I29) -> 0 | J30: =SUM(J23:J29) -> 0 | K30: =SUM(K23:K29) -> 0 | L30: =SUM(L23:L29) -> 0 | M30: =SUM(M23:M29) -> 0 | N30: =SUM(N23:N29) -> 0 | O30: =SUM(O23:O29) -> 0
B31: Bosnia & Herzegovina
B32: Botswana | H32: % of target stages by PQS area | I32: =I22 -> 目前不是优先事项 | J32: =J22 -> 阶段1 | K32: =K22 -> 阶段2 | L32: =L22 -> 阶段3 | M32: =M22 -> 达到最高阶段 | N32: =F1 -> 高优先级 | O32: Total
B33: Brazil | H33: =H2 -> S1 - 提高地方项目活动的质量和覆盖率 | I33: =I23/$G$2 -> 0 | J33: =J23/$G$2 -> 0 | K33: =K23/$G$2 -> 0 | L33: =L23/G2 -> 0 | M33: =M23/G2 -> 0 | N33: =N23/G2 -> 0 | O33: =SUM(I33:M33) -> 0
B34: Brunei Darussalam | H34: =H3 -> S2 - 赋能运动员领袖和其他变革者 | I34: =I24/$G$3 -> 0 | J34: =J24/$G$3 -> 0 | K34: =K24/$G$3 -> 0 | L34: =L24/G3 -> 0 | M34: =M24/G3 -> 0 | N34: =N24/G3 -> 0 | O34: =SUM(I34:M34) -> 0
B35: Bulgaria | H35: =H4 -> S3 - 健全包容性服务和营造包容性环境 | I35: =I25/$G$4 -> 0 | J35: =J25/$G$4 -> 0 | K35: =K25/$G$4 -> 0 | L35: =L25/G4 -> 0 | M35: =M25/G4 -> 0 | N35: =N25/G4 -> 0 | O35: =SUM(I35:M35) -> 0
B36: Burkina Faso | H36: =H5 -> E1 - 特奥会运动数字化 | I36: =I26/$G$5 -> 0 | J36: =J26/$G$5 -> 0 | K36: =K26/$G$5 -> 0 | L36: =L26/G5 -> 0 | M36: =M26/G5 -> 0 | N36: =N26/G5 -> 0 | O36: =SUM(I36:M36) -> 0
B37: Burundi | H37: =H6 -> E2 - 收入渠道多样化 | I37: =I27/$G$6 -> 0 | J37: =J27/$G$6 -> 0 | K37: =K27/$G$6 -> 0 | L37: =L27/G6 -> 0 | M37: =M27/G6 -> 0 | N37: =N27/G6 -> 0 | O37: =SUM(I37:M37) -> 0
B38: Cambodia | H38: =H7 -> E3 - 建立品牌 | I38: =I28/$G$7 -> 0 | J38: =J28/$G$7 -> 0 | K38: =K28/$G$7 -> 0 | L38: =L28/G7 -> 0 | M38: =M28/G7 -> 0 | N38: =N28/G7 -> 0 | O38: =SUM(I38:M38) -> 0
B39: Canada | H39: =H8 -> E4 - 促进组织发展 | I39: =I29/$G$8 -> 0 | J39: =J29/$G$8 -> 0 | K39: =K29/$G$8 -> 0 | L39: =L29/G8 -> 0 | M39: =M29/G8 -> 0 | N39: =N29/G8 -> 0 | O39: =SUM(I39:M39) -> 0
B40: Cape Verde | H40: =H9 -> 所有战略计划领域 | I40: =I30/$G$9 -> 0 | J40: =J30/$G$9 -> 0 | K40: =K30/$G$9 -> 0 | L40: =L30/G9 -> 0 | M40: =M30/G9 -> 0 | N40: =N30/G9 -> 0 | O40: =SUM(I40:M40) -> 0
...
