Workbook
Name _Hlk62576649: 'E1'!#REF!
Name _Hlk62576649: 'E2'!#REF!
Name _Hlk62576649: 'E3'!#REF!
Name _Hlk62576649: 'E4'!#REF!
Name _Hlk62576649: INTRODUCTION!#REF!
Name _Hlk62576649: 'S1'!#REF!
Name _Hlk62576649: 'S2'!#REF!
Name _Hlk62576649: 'S3'!#REF!
Name _Hlk62576649: 'TABLEAU DE BORD'!#REF!

Sheet INTRODUCTION
A6: Ressources PQS | B6: Lien vers la page Resources.org
A8: PQS FAQ | B8: Lien vers la foire aux questions PQS
A10: Instructions | B10: Regardez la vidéo d'instruction étape par étape
A14: Région
B15: Choisissez dans le menu déroulant
A17: Programme
B18: Choisissez dans le menu déroulant
A20: Terminé par
B21: Énumérez les noms et les rôles de TOUS les représentants du programme qui ont participé à l'auto-évaluation
A23: Date
B24: Indiquez la date à laquelle l'auto-évaluation a été complétée ou a été mise à jour pour la dernière fois
A28: Table des matières | B28: S1 - PROGRAMMATION LOCALE
A29: Cliquez pour accéder à chaque onglet | B29: S2 - AUTONOMISATION DES ATHLÈTES ET DES JEUNES
B30: S3 - DÉVELOPPER DES PRATIQUES INCLUSIVES
B31: E1 - NUMÉRISER LE MOUVEMENT
B32: E2 - DIVERSIFIER LES REVENUS
B33: E3 - DÉVELOPPER LA MARQUE
B34: E4 - IMPULSER L'EXCELLENCE
B35: TABLEAU DE BORD
A38: Rapport sommaire | B38: Regarder la vidéo d'instruction
B39: Une fois que vous avez terminé l'auto-évaluation, pour générer le PDF de synthèse, allez dans Fichier => Imprimer => Sélectionnez "Adobe PDF" dans la liste des imprimantes => sélectionnez "Imprimer tout le classeur" dans les paramètres => cliquez sur "Imprimer"
A41: Auto-évaluation
A42: Avancement de l'achèvement | B42: =Data!C2 -> 0

Sheet S1
A1: Référence du plan stratégique | B1: Zone de PQS | C1: Niveau 1 | D1: Niveau 2 | E1: Niveau 3 | F1: Niveau Actuel | G1: Niveau Cible | H1: Haute Priorité | I1: Commentaires Partagez des commentaires sur votre niveau actuel, votre niveau cible et les étapes d'action pour PASSER au niveau cible | J1: Rapport D'étape Sélectionnez l'état d'avancement dans le menu déroulant | K1: Commentaires sur le Rapport D'avancement
A2: S1.1 Structures Locales, Opérations & portée | B2: Infrastructure locale | C2: Special Olympics au niveau local (par exemple, village, district administratif, chapitre) est organisé par une équipe de volontaires (3+) avec des rôles définis (par exemple, communication, logistique, sensibilisation). | D2: La branche au niveau local de Special Olympics est mis en place sous la forme d'un «club» (parfois appelé sous-programme ou chapitre) géré par un comité avec des rôles définis. | E2: Les «clubs» locaux proposent des activités de sport, de santé, de jeunes athlètes, d'engagement du leadership des athlètes et d'engagement scolaire. Les «clubs» collectent des fonds localement et assurent une couverture médiatique locale.
B3: Recrutement et Rétention des Athlètes et des Partenaires | C3: Le Programme recrute de nouveaux athlètes et partenaires Unifiés de divers horizons et lieux et évalue leur rétention chaque année. | D3: Le Programme recrute activement des athlètes et des partenaires unifiés dans les zones à faible présence (par exemple, les zones reculées). Un plan de base de rétention des athlètes est en place et 75% des athlètes sont retenus chaque année. | E3: Le programme retient avec succès 90% des athlètes et des partenaires Unifiés.
B4: Recrutement et rétention des entraîneurs | C4: Le Programme recrute activement de nouveaux entraîneurs et suit leur rétention chaque année. | D4: Le Programme cible les entraîneurs certifiés par le biais de partenaires sportifs et de la communauté sportive (clubs, fédérations, professeurs d'éducation physique) et retient 75% des entraîneurs chaque année. | E4: Le Programme retient 90% des entraîneurs certifiés chaque année.
B5: Athlete & Leadership Unifié | C5: Les athlètes leaders ont des rôles significatifs au niveau local (par exemple, capitaine d'équipe, responsable de la mise en place de l'équipement à l'entraînement). | D5: Le comité local du «club» de Special Olympics comprend un athlète dirigeant et ajuste ses pratiques pour assurer une participation et une contribution égales à la prise de décision et aux activités. | E5: Les rôles des comités et les opérations locales du «club» sont dirigés par des athlètes leaders (par exemple, horaires d'entraînement, communications, collecte de fonds, etc.).
A6: S1.2 Formation des Entraîneurs | B6: Système de Développement des Entraîneurs | C6: Le programme garantit que les entraîneurs suivent une formation de certification de base par le biais de SOI ou d'une structure de formation d'entraîneurs équivalente, en soutenant toutes les étapes du Modèle de Développement de l'athlète (MDA). | D6: Le programme garantit que les entraîneurs complètent certains éléments du Système Mondial de Développement des Entraîneurs de Special Olympics. Le Programme offre ou facilite la formation d'entraîneurs certifiés spécifiques au sport et les occasions d'obtenir une certification plus élevée (y compris le Programme de Formation aux Activités Motrices). 70% des entraîneurs détiennent une certification d'entraîneur approuvée. | E6: Le Programme dispose d'un système de formation des entraîneurs entièrement développé, aligné sur le cadre national de formation d’entraîneurs ou sur le Système Mondial de Formation des Entraîneurs de Special Olympics. 90% des entraîneurs détiennent une certification d'entraîneur approuvée.
A7: S1.3 Fréquence & qualité des sports | B7: Ratio entraîneur / athlète | C7: Le ratio moyen entraîneur certifié / athlète est inférieur à 1 pour 20. | D7: Ratio moyen entraîneur certifié / athlète inférieur à 1 pour 16. | E7: Le ratio moyen entraîneur certifié / athlète est inférieur à 1 pour 12.
B8: Sports Unifiés | C8: Le programme offre 1 modèle de Sports Unifiés (récréatif, développement du joueur ou compétitif) dans au moins 1 sport dans une communauté, une école ou une université. 5% de tous les athlètes participent aux Sports Unifiés. | D8: Le Programme propose 2 modèles de Sports Unifiés dans au moins 2 sports et 2 contextes (communauté, école, université). 10% des athlètes participent aux Sports Unifiés. | E8: Le Programme propose les 3 modèles de Sports Unifiés dans au moins 3 sports dans les 3 contextes. 15% des athlètes participent aux Sports Unifiés.
B9: Modèle de Développement de l'Athlète (MDA) | C9: Le programme fait participer les athlètes à l'un des niveaux du Modèle de Développement de l'Athlète (MDA) (Fondamental, Apprendre à s'entraîner, S'entraîner à la compétition, Loisirs). | D9: Le programme engage des athlètes et des Partenaires Unifiés dans un minimum de 2 niveaux de progression du MDA. | E9: Le Programme a mis en œuvre 3-4 niveaux de progression MDA dans un modèle complet de développement de l'athlète.
B10: Fréquence de Participation | C10: Tous les athlètes / Partenaires Unifiés ont au moins une séance hebdomadaire d'entraînement sportif Special Olympics avec un entraîneur pendant la saison sportive (* séance = 60 minutes d’intensité modérée à vigoureuse). | D10: 50% des athlètes / Partenaires Unifiés ont au minimum 1 séance d'entraînement sportif hebdomadaire avec un entraîneur + une autre séance d'entraînement ou de conditionnement physique dirigée ou prescrite par un entraîneur / instructeur de conditionnement physique certifié pendant la saison sportive (120 minutes par semaine). | E10: 75% des athlètes / partenaires Unifiés ont au minimum 1 séance d'entraînement sportif hebdomadaire avec un entraîneur + une autre séance d'entraînement ou de conditionnement physique dirigée ou prescrite par un entraîneur / instructeur de conditionnement physique certifié pendant la saison sportive (120 minutes par semaine).
B11: Équipements et installations | C11: Le sport est pratiqué à l'aide d'installations, d'équipements et de vêtements sportifs de base, conformément aux règles de sécurité. | D11: Le sport est pratiqué à l'aide d'installations, d'équipements et de vêtements sportifs approuvés similaires aux sports traditionnels. | E11: Le sport est pratiqué à l'aide d'installations, d'équipements et de vêtements sportifs aux normes nationales / internationales.
B12: Fréquence des Compétitions | C12: Les athlètes / partenaires Unfiés ont au moins 1 opportunité de compétition par an dans chaque sport proposé par le Programme. Au moins 1 compétition proposée est virtuelle. | D12: Les athlètes / partenaires Unifiés ont au moins 3 opportunités de compétition par an dans chaque sport proposé par le Programme. Au moins 2 compétitions proposées sont virtuelles. | E12: Les athlètes / partenaires Unfiés ont la possibilité de participer à des compétitions de type ligue tout au long de l'année. Le Programme organise au moins 3 compétitions virtuelles.
B13: Qualité de la Compétition | C13: Le responsable de la compétition s'assure que chaque compétition est organisée conformément aux règles sportives de Special Olympics. Horaires des compétitions fournis à l'avance. | D13: Tous les officiels techniques en chef satisfont aux exigences minimales de certification de l'Instance Dirigeante du Sport pour le niveau de compétition. | E13: Des délégués techniques et des jurys spécifiques au sport sont disponibles pour tous les événements, y compris au niveau local.
B14: Jeunes Athlètes | C14: Le Programme offre de multiples opportunités de participer au programme Jeunes Athlètes (âgés de 2 à 7 ans) tout au long de l'année. | D14: Le programme propose deux des trois modèles de Jeunes Athlètes (école, communauté ou domicile) et enregistre tous les jeunes athlètes dans GMS, Connect ou dans la base de données locale. | E14: Le Programme offre des activités soutenues et en expansion de Jeunes Athlètes qui durent au moins 8 semaines et permettent aux enfants de passer à d'autres activités sportives Special Olympics après le programme Jeunes Athlètes.
A15: S1.4 Partenariats Locaux | B15: Partenariats Sportifs | C15: Le Programme établit des relations avec les instances dirigeantes du sport ou d'autres organisations liées au sport qui peuvent soutenir des opportunités d’entraînements sportifs et des compétitions de haute qualité. | D15: Le Programme a un partenariat avec les Instances Dirigeantes du Sport / organisations reconnues liées au sport pour au moins 50% des sports proposés, y compris l'accès aux entraîneurs et à la formation des entraîneurs. | E15: Le Programme a un partenariat officiel avec les Instances Dirigeantes du Sport / une organisation sportive reconnue pour 100% des sports proposés.
A16: S1.5 Intégration Santé & Bien-être | B16: Fréquence de Remise en Forme (Fitness) | C16: Le programme communique l'importance de la santé et de la forme physique (Fitness) à tous les athlètes, partenaires Unifiés, entraîneurs, familles à travers des séances de bien-être, des orientations et en ligne. | D16: Le Programme offre au moins 6 semaines de programmes de santé et de conditionnement physique (fitness) continus, en dehors des activités Healthy Athlètes (Athlètes en Santé), avec au moins 10% des athlètes qui terminent le programme chaque année. | E16: Le Programme offre des programmes de santé et de conditionnement physique (Fitness) toute l'année, en dehors des activités Healthy Athletes (Ahtlètes en Bonne Santé), pour les athlètes, impliquant des partenaires Unifiés, des entraîneurs et des familles Unifiées, avec au moins 20% d'athlètes qui terminent le programme chaque année.
B17: Fréquence de remise en forme (Fitness) | C17: L'entraînement sportif comprend des éléments généraux d'échauffement, de récupération et de remise en forme (par exemple, conditionnement physique, éducation sur la nutrition) prescrits par l'entraîneur selon ses connaissances. | D17: Les activités d'entraînement sportif comprennent des éléments d'échauffement, de récupération et de conditionnement physique spécifiques au sport, prescrits par un entraîneur ou un entraîneur de Fitness. | E17: Le Programme favorise le suivi du conditionnement physique des athlètes / partenaires (par exemple, les niveaux d'activité quotidiens, le registre des entraînements ou de d'exercice physiques, le registre de la nutrition, les éléments de forme physique/fitness).
B18: Santé & Bien-être | C18: Les installations et les sites de compétition proposent des repas sains et des boissons. | D18: Des Stations de Performance sont proposées à toutes les grandes compétitions. | E18: Des Stations de Performance sont proposées lors de compétitions locales
B19: Healthy Athletes | C19: Le Programme directement ou en partenariat (par exemple avec un établissement de santé) offre au moins 1 événement de dépistage et 1 activité virtuelle par an (Forum sur la Santé Familiale, Athlètes en Bonne Santé virtuels, suivi de conditionnement physique en ligne ou via une application). Un réseau de prestataires de services est mis en place pour fournir des soins de suivi après un dépistage. | D19: Le Programme, Directement ou par le biais d'un partenariat, propose une consultation médicale de Healthy Athletes (Athlètes en Bonne Santé) ou des événements virtuels dans au moins 3 disciplines et 2 activités virtuelles par an (Forum sur la santé familiale, suivi de conditionnement physique en ligne ou via une application). | E19: Le Programme, directement ou par le biais d'un partenariat, propose une consultation médicale Healthy Athletes (Athlètes en Bonne Santé) ou des événements virtuels dans toutes les disciplines et 3 activités virtuelles supplémentaires par an (Forum sur la santé familiale, suivi de conditionnement physique en ligne ou via une application).

Sheet S2
A1: ='S1'!A1 -> Référence du plan stratégique | B1: ='S1'!B1 -> Zone de PQS | C1: ='S1'!C1 -> Niveau 1 | D1: ='S1'!D1 -> Niveau 2 | E1: ='S1'!E1 -> Niveau 3 | F1: ='S1'!F1 -> Niveau Actuel | G1: ='S1'!G1 -> Niveau Cible | H1: ='S1'!H1 -> Haute Priorité | ... K1: ='S1'!K1 -> Commentaires sur le Rapport D'avancement
A2: S2.1 Compétences et Connaissances | B2: Professionnels de la Santé | C2: Le Programme engage des professionnels de la santé et des étudiants pour la formation et la mise en œuvre. | D2: Le Programme s'associe à une université ou à une association professionnelle pour recruter des professionnels de la santé et des étudiants à des fins de formation et de mise en œuvre. | E2: Le Programme s'associe à plusieurs universités et / ou associations professionnelles pour recruter des professionnels de la santé et des étudiants pour la formation et la mise en œuvre.
B3: Formation au Leadership des Athlètes | C3: Le Programme offre deux modules de formation de base sur le Leadership des Athlètes. | D3: Le Programme offre 1 cours avancé de Leadership et une formation sur les rôles au niveau de Special Olympics. | E3: Le Programme s'associe à des organisations externes pour fournir une formation spécifique aux athlètes leaders (par exemple, une formation en communication).
A4: S2.2 Écoles Unifiées | B4: Écoles Unifiées | C4: Le Programme établit des relations avec les établissements d'enseignement (par exemple, les écoles, les universités) dans au moins une zone géographique pour recruter et engager des jeunes avec et sans DI (Déficience Intellectuelle) dans les activités de Special Olympics. | D4: Le Programme s'associe à des établissements d'enseignement pour mener des activités sportives et éducatives inclusives (par exemple, Sports Unifiés, sommet du leadership des Jeunes). Le Programme travaille à la transition des Écoles Unifiées vers des Écoles Championnes Unifiées. | E4: Le Programme étend le programme Écoles Championnes Unifiées à toutes les principales zones géographiques du pays ou de l'état.
A5: S2.3 Emplois/rôles internes des athlètes | B5: Structures du Leadership des Athletes | C5: Le Programme a un Conseil Consultatif des Athlètes qui fournit activement des avis/contributions aux responsables du Programme et à la prise de décision du Programme. | D5: Le Programme a un Conseil de Leadership des Athlètes qui joue un rôle significatif dans la prise de décision du Programme ainsi que dans la mise en œuvre de ses propres projets. | E5: Tous les comités, activités de planification et de mise en œuvre ont des athlètes pleinement inclus en tant que membres ou dirigeants de comités.
B6: Rôles de Leadership des Athlètes | C6: Le Programme a des athlètes formés et servant dans des rôles de responsabilités significatives (par exemple, porte-parole, entraîneur, messager de la santé). | D6: Le Programme a des athlètes dans des postes de stagiaire ou d’employé non rémunérés qui mettent en œuvre des programmes et utilise des athlètes leaders formés dans les domaines programmatiques, événementiels et des activités. | E6: Le Programme a un athlète comme personnel rémunéré. Les athlètes leaders formés forment d'autres athlètes leaders et éduquent les membres du Programme.
A7: S2.4 Athlètes et Jeunes enseignant l'inclusion | B7: Athlètes et Jeunes Leaders comme porte-parole | C7: Le Programme invite les jeunes et les athlètes à participer à des événements avec des groupes extérieurs (par exemple, donner un discours ou présenter un orateur de l’extérieur lors d'une cérémonie d'ouverture de Jeux locaux). | D7: Le Programme crée des opportunités d'interaction significative et durable entre les jeunes / athlètes et des groupes extérieurs (par exemple, inviter un officiel local à une école championne unifiée pour un match de sports unifiés et un déjeuner avec des étudiants) | E7: Le programme inclut des jeunes et des athlètes dans la planification et l'exécution d'événements et un engagement régulier avec des groupes externes.
B8: Leadership des Jeunes | C8: Le Programme recrute activement des jeunes pour les impliquer dans Special Olympics. | D8: Le Programme organise des activités pour développer des mentalités et des comportements inclusifs chez les jeunes (par exemple, des sommets sur le leadership des jeunes, des formations, etc.). | E8: Tous les comités, activités de planification et de mise en œuvre ont des jeunes pleinement impliqués en tant que membres ou dirigeants.

Sheet S3
A1: ='S1'!A1 -> Référence du plan stratégique | B1: ='S1'!B1 -> Zone de PQS | C1: ='S1'!C1 -> Niveau 1 | D1: ='S1'!D1 -> Niveau 2 | E1: ='S1'!E1 -> Niveau 3 | F1: ='S1'!F1 -> Niveau Actuel | G1: ='S1'!G1 -> Niveau Cible | H1: ='S1'!H1 -> Haute Priorité | ... K1: ='S1'!K1 -> Commentaires sur le Rapport D'avancement
A2: S3.1 Changement des systèmes de haut niveau | B2: Relations avec le Gouvernement* (si le Programme le juge approprié) | C2: Le Programme analyse la structure gouvernementale et développe les contacts avec des entités gouvernementales. Les responsables gouvernementaux concernés assistent à des événements de Special Olympics et / ou tiennent des réunions avec des représentants de Special Olympics. | D2: Le Programme développe des relations solides avec des entités gouvernementales qui sont disposées à utiliser leur influence pour faire progresser le travail de Special Olympics et les droits des personnes ayant une déficience intellectuelle grâce à une politique ou une allocation de ressources à l'appui de la mission Special Olympics. | E2: Les représentants du gouvernement engagent de manière proactive Special Olympics dans l'élaboration de politiques liées à l'inclusion et au handicap.
B3: ONG et Organisations de Services | C3: Le Programme a au moins un partenariat avec une organisation non gouvernementale, intergouvernementale, semi-gouvernementale ou de service (par exemple, le Lions Clubs International, l'UNICEF) dont le travail est complémentaire et bénéfique à Special Olympics. | D3: Le Programme a des partenariats avec au moins 2 organisations non gouvernementales, intergouvernementales, semi-gouvernementales ou de services dont le travail est complémentaire et bénéfique à Special Olympics. | E3: Le Programme a des partenariats avec au moins 2 organisations non gouvernementales, intergouvernementales, semi-gouvernementales ou de services qui soutiennent directement le programme de Special Olympics.
A4: S3.2 Organisations Inclusives | B4: Engagement Externe | C4: Le Programme s'engage avec des organisations extérieures (par exemple des entreprises, des fédérations sportives, des prestataires de soins de santé, des districts scolaires) pour sensibiliser à la nécessité d'inclure les personnes ayant une DI | D4: Le programme éduque les organisations externes sur la mise en œuvre d'une approche de Leadership Unifié pour rendre leur organisation plus inclusive. Les athlètes leaders codirigent des séances de formation externes | E4: Le Programme s'associe à des organisations extérieures pour les aider à modifier leurs politiques et pratiques afin de devenir plus inclusif pour les personnes ayant une DI.
A5: S3.3. Utiliser les Jeux pour changer les systèmes | B5: Engagement de Haut Niveau | C5: Les Jeux du Programme impliquent la participation de leaders influents du sport, du gouvernement, du monde des affaires, de l'éducation ou de la santé (par exemple, faire un discours, une table ronde, etc.) | D5: Les Jeux du Programme comprennent des discussions et / ou des annonces impliquant des leaders influents du sport, du gouvernement, des affaires, de l'éducation ou de la santé au sujet des politiques ou des ressources pour l'inclusion des personnes ayant une DI. | E5: Les Jeux de Programme sont une plate-forme de haut niveau et respectée que les partenaires extérieurs utilisent pour faire des annonces sur l'amélioration de la vie des personnes ayant une déficience intellectuelle ou des problèmes d'inclusion plus larges au-delà de Special Olympics et / ou des personnes ayant une déficience intellectuelle.
B6: Qualité des Jeux / évènements | C6: Les Jeux du Programme se déroulent à l'heure et contiennent des éléments de protocole de base tels que définis dans les Règles Générales de Special Olympics, y compris des cérémonies et récompenses axées sur les athlètes qui impliquent des dirigeants / célébrités extérieurs et influents. | D6: Les Jeux du Programme comprennent une composante éducative pour les invités extérieurs influents et garantissent qu'ils ont des opportunités d'interaction avec les athlètes. | E6: Les Jeux du Programme présentent une image de marque de haute qualité et des expériences bien planifiées pour les invités extérieurs et influents afin de s'assurer qu'ils acquièrent une perception positive et professionnelle de Special Olympics.

Sheet E1
A1: ='S1'!A1 -> Référence du plan stratégique | B1: ='S1'!B1 -> Zone de PQS | C1: ='S1'!C1 -> Niveau 1 | D1: ='S1'!D1 -> Niveau 2 | E1: ='S1'!E1 -> Niveau 3 | F1: ='S1'!F1 -> Niveau Actuel | G1: ='S1'!G1 -> Niveau Cible | H1: ='S1'!H1 -> Haute Priorité | ... K1: ='S1'!K1 -> Commentaires sur le Rapport D'avancement
A2: E1.1 Plateformes Numériques | B2: Communication Interne | C2: Le Programme engage les mandants grâce à la technologie traditionnelle (par exemple, le courrier électronique, Facebook, etc.) et des événements virtuels réguliers. | D2: Le Programme engage les mandants grâce à de nouvelles technologies (par exemple, Zoom, applications). Les Sous-programmes hébergent régulièrement des évènements virtuels. | E2: Le Programme engage les mandants par le biais d'applications ou de technologies personnalisées et dispose de systèmes avancés de partage d'informations en ligne avec le personnel et les bénévoles (par exemple, collecte de fonds, marketing, médias sociaux, applications de communication).
A3: E1.2 Contenu Numérique | B3: Création et analyse de contenu | C3: Le Programme utilise du contenu numérique créé par SOI ou la Région pour le site Web, les médias sociaux ou les bulletins d’information électroniques et / ou pour l'impression physique de banderoles, d'affiches ou de brochures d'information. | D3: Le Programme développe son propre contenu numérique pour le site Web, les médias sociaux et / ou les bulletins d’information électroniques, engageant des bénévoles ou des partenaires / sponsors pour la création de contenu numérique. | E3: Le Programme crée et analyse du contenu numérique tout au long de l'année sur le site Web, les médias sociaux, les bulletins d’information électroniques avec un personnel dédié ou le soutien d'une agence.
A4: E1.3 Gestion des données | B4: Gestion des Compétitions | C4: Le Programme utilise des fiches Excel ou des bases de données pour collecter et gérer les données de compétitions locales / étatiques / nationales. | D4: Le Programme utilise un système de gestion de compétition à tous les niveaux pour enregistrer les données de compétition (par exemple, GMS ou SO Connect) et maintenir des registres cohérents et régulièrement mis à jour. Les délégations respectent les délais d'inscription à la compétition. | E4: Le Programme utilise un système de gestion de compétition en ligne pour enregistrer les données de compétition (par exemple, GMS ou SO Connect). Les résultats de la compétiton sont cohérents, fiables et disponibles à la demande pour engager les fans et les médias au niveau local.
B5: Données sur les mandants / membres | C5: Le Programme conserve des données de base sur les athlètes, les partenaires Unifiés, les entraîneurs, les familles et les bénévoles (par exemple, nom, données démographiques et coordonnées) et saisit les données des donateurs, des célébrités et des fans. | D5: Le Programme utilise GMS ou SO Connect pour maintenir à jour les données des principaux mandants / membres, y compris les informations de participation (par exemple, les événements auxquels ils ont participé, les résultats des compétitions) et les informations sur la certification des entraîneurs et suivre l'engagement des donateurs / célébrités / fans. | E5: Le programme utilise les données des mandants / membres de GMS ou SO Connect pour prendre des décisions stratégiques. Les enregistrements de la base de données du Programme comprennent les informations sur la certification des entraîneurs extérieurs et prennent en charge l'administration des besoins de recertification des entraîneurs.
B6: Engagement Virtuel | C6: Le programme a un moyen de suivre le nombre de mandants / membres engagés virtuellement (par exemple, le nombre d'abonnés sur un compte de réseau social). | D6: Le Programme a un moyen de suivre les nombres, le niveau et la fréquence de l'engagement virtuel des mandants / membres. | E6: Le Programme suit systématiquement les niveaux d'engagement virtuel des mandants / membres et utilise stratégiquement les résultats pour s'assurer que les mandants / membres sont impliqués et touchés par les activités et les campagnes.
B7: Données sur Healthy Athletes (Athlètes en Bonne Santé) | C7: Le Programme capture les données de dépistage en ligne pendant ou après les événements Healthy Athletes (Athlètes en Bonne Santé) et accède aux rapports d'événements. | D7: Le Programme utilise la technologie numérique dans le domaine du conditionnement physique (fitness) / Jeunes Athlètes ou de l'éducation à la santé, des dépistages et de la formation en Healthy Athletes (professionnels de la santé, messagers de la santé). | E7: Le Programme capture et fournit des données pour aider aux efforts de recherche et d'évaluation en santé de SOI.
A8: E1.4 Environnement en ligne sécurisé | B8: Logiciel de technologie | C8: Le Programme utilise des applications informatiques de base pour l'administration du bureau et du Programme, dispose d'un système de sauvegarde des données de base et utilise un logiciel de protection antivirus. | D8: Le Programme dispose d'un stockage de données sécurisé et d'un système de sauvegarde basé sur le cloud pour le stockage et le partage de documents, photos, outils numériques et documents. | E8: Le Programme utilise des solutions (par exemple, le partage de fichiers dans le cloud, la visioconférence) pour permettre le travail au bureau ou virtuellement, met en œuvre des mesures et des politiques complètes de sécurité des informations et effectue des contrôles technologiques réguliers.
A9: E1.5 Modernisation numérique | B9: Infrastructure technologique | C9: Le Programme dispose d'une connexion Internet de base et d'un accès à l'équipement de base (téléphone, ordinateur), d'un courrier électronique dédié à Special Olympics et développe un plan d'amélioration technologique de base. | D9: Le Programme dispose d'une connectivité et d'un équipement Internet cohérents et dédiés et développe une stratégie globale d'amélioration de la technologie dans tous les principaux domaines fonctionnels des opérations. | E9: Le Programme dispose d'une connectivité Internet avancée, de l'équipement et des services nécessaires et d'une stratégie technologique qui améliore la programmation (par exemple, des tablettes de Healthy Athletes pour la capture de données en direct et le partage avec les partenaires concernés pour le suivi).

Sheet E2
A1: ='S1'!A1 -> Référence du plan stratégique | B1: ='S1'!B1 -> Zone de PQS | C1: ='S1'!C1 -> Niveau 1 | D1: ='S1'!D1 -> Niveau 2 | E1: ='S1'!E1 -> Niveau 3 | F1: ='S1'!F1 -> Niveau Actuel | G1: ='S1'!G1 -> Niveau Cible | H1: ='S1'!H1 -> Haute Priorité | ... K1: ='S1'!K1 -> Commentaires sur le Rapport D'avancement
A2: E2.1-E2.3 Construire des partenariats stratégiques | B2: Gestion des Donateurs & Reconnaissance | C2: Le Programme met en œuvre une approche de base pour attribuer des droits et des avantages aux donateurs et reconnaître leur soutien (par exemple, lettres de remerciement). | D2: Le Programme recherche activement des donateurs et les reconnaît sur la base d'un plan de droits et d'avantages établi. | E2: Le Programme fait progresser les relations avec les meilleurs donateurs sur la base de stratégies écrites et d'une expertise en matière de collecte de fonds interne ou externe.
B3: Relations avec le Gouvernement (if Program judges it appropriate to do so) | C3: Le Programme collabore avec une entité gouvernementale pour obtenir un soutien financier (en espèce / en nature) pour les événements Special Olympics. | D3: Le Programme collabore avec une ou plusieurs entités gouvernementales pour obtenir un soutien financier (en espèces / en nature) pour le programme Special Olympics (par rapport à un événement spécifique). | E3: Le Programme a un engagement formel (par exemple, un protocole d'accord) avec au moins une entité gouvernementale pour soutenir financièrement les domaines / initiatives programmatiques de Special Olympics (par exemple, le sport) en espèces / en nature
A4: E2.4-E2.5 Capacité de collecte de fonds | B4: Planification et Ressources | C4: Le Programme met en œuvre un plan de collecte de fonds de base, assiste à des formations de collecte de fonds menées par SOI / Région et à des sessions de partage de meilleures pratiques. Le Programme a la capacité de préparer / présenter des documents et des propositions de base pour la collecte de fonds | D4: Le Programme a une stratégie de collecte de fonds avec des objectifs, des documents de collecte de fonds et du personnel / des bénévoles identifiés, et une réserve de bailleurs de fonds potentiels avec un relationnel solide pour chacun | E4: Le Programme a une stratégie de collecte de fonds pluriannuelle et des documents de proposition professionnels, y compris les droits des sponsors et les avantages sociaux, soutenus par un personnel professionnel. Le Programme établit des partenariats pour demander conjointement des subventions.
A5: E2.6-E2.7 Diversifier les canaux de financement | B5: Diversification des Sources de financement | C5: Le Programme dispose d'au moins 1 source de financement en espèces pour alléger le budget, à l'exclusion de SOI (par exemple, une subvention externe), et reçoit au moins 2 dons en nature pour alléger le budget des biens ou de services | D5: Le Programme dispose d’au moins 3 sources de financement en espèces et au moins 3 sources de dons en nature de biens ou de services. Le Programme procède à une analyse des risques du financement actuel et obtient au moins une nouvelle source de financement chaque année. | E5: Le Programme dispose de 5 sources ou plus de financement en espèces provenant de divers bailleurs de fonds soutenant différents domaines programmatiques, reçoit au moins 5 dons en nature de biens ou de services et garantit des sources de financement pluriannuelles.
B6: Collecte de Fonds au niveau Mondial | C6: Le Programme reste informé des campagnes de financement au niveaux régional et mondial. | D6: Le Programme participe activement aux campagnes de financement aux niveaux régional et mondial. Le programme met en œuvre des partenariats mondiaux / régionaux, le cas échéant. | E6: Le Programme participe activement à des campagnes de collecte de fonds aux niveaux régional et mondial et les adapte à son marché afin d'élargir la reconnaissance de la marque et de maximiser le financement.

Sheet E3
A1: ='S1'!A1 -> Référence du plan stratégique | B1: ='S1'!B1 -> Zone de PQS | C1: ='S1'!C1 -> Niveau 1 | D1: ='S1'!D1 -> Niveau 2 | E1: ='S1'!E1 -> Niveau 3 | F1: ='S1'!F1 -> Niveau Actuel | G1: ='S1'!G1 -> Niveau Cible | H1: ='S1'!H1 -> Haute Priorité | ... K1: ='S1'!K1 -> Commentaires sur le Rapport D'avancement
A2: E3.1 Portée de la Marque | B2: Présence sur les Réseaux Sociaux | C2: Le Programme a une forte présence bien gérée sur les médias sociaux via au moins une plateforme, où les histoires et les évènements sportifs mettant en valeur les athlètes sont systématiquement partagés. | D2: Les plateformes en ligne du Programme (médias sociaux ou site Web) sont conçues et gérées par des professionnels. Le Programme intègre stratégiquement les médias sociaux pour soutenir les activités de marketing. | E2: Les plateformes de médias sociaux et le site Web du Programme ont des fonctionnalités interactives conçues pour attirer et engager le public (par exemple, les dons en ligne). Le Programme utilise l'analyse des médias sociaux pour guider le marketing.
B3: Couverture médiatique | C3: Le Programme assure la couverture médiatique d'au moins 1 grand évènement, compétition ou campagne annuelle. | D3: Le Programme assure la couverture médiatique d'un évènement, d'une compétition ou d'une campagne majeure chaque trimestre | E3: Le Programme recherche activement et assure une couverture médiatique toute l'année.
B4: Partenariats | C4: Le Programme entretient des relations avec des professionnels de Relations Publiques, de marketing, de la communication et / ou des médias pour obtenir des conseils et un soutien. | D4: Le Programme a un don en nature avec au moins une agence de Relations Publiques, une agence de marketing et / ou des médias. | E4: Le Programme a un accord formel de parrainage / partenariat avec au moins une agence de RP, une agence de marketing et / ou un média.
B5: l'Image de Marque | C5: Le Programme met en application les directives de la marque de SOI pour les documents numériques et traditionnels de base (par exemple, logos numériques, bannières, t-shirts). | D5: Le Programme effectue une étude de marché et met en application les directives de marque numériques et traditionnelles sur tous les outils et documents aux niveaux du Programme et des Sous-programmes (par exemple, site Web, uniformes). | E5: Le Programme met systématiquement en application les directives de marque virtuelle et traditionnelle sur tous les documents à tous les niveaux et fait la promotion de la marque à l'extérieur.
A6: E3.2 S'appuyer sur les évènements mondiaux Special Olympics | B6: Alignement sur le Mondial | C6: Le Programme utilise les informations fournies par SOI sur les évènements mondiaux de Special Olympics (par exemple les Jeux Mondiaux) pour sensibiliser le public. | D6: Le Programme s’appuit sur sa propre campagne pour sensibiliser par rapport à au moins un évènement mondial de Special Olympics chaque année | E6: Le Programme intègre les évènements / campagnes mondiaux de Special Olympics dans sa stratégie de marketing pluriannuelle pour profiter pleinement des opportunités de sensibilisation sur Special Olympics.
A7: E3.3 S’appuyer sur des évènements extérrieurs | B7: Alignement sur l’extérieur | C7: Le Programme participe à des évènements organisés par des groupes extérieurs pour aider à faire connaître Special Olympics. | D7: Le programme a au moins un accord avec un organisateur d'évènement extérieur pour utiliser son évènement comme un moyen de faire connaître Special Olympics. | E7: Le Programme a des accords avec plusieurs évènements extérieurs, y compris au moins un évènement au niveau national ou étatique, pour promouvoir Special Olympics et l'inclusion des personnes avec une déficience intellectuelle
A8: E3.4 Les Athlètes Leaders renforcent la sensibilisation | B8: Promotion conjointe avec des célébrités | C8: Le Programme compte au moins une personnalité publique influente connue qui collabore avec un athlète leader pour promouvoir Special Olympics au moins une fois par an | D8: Le Programme compte au moins 2 personnalités publiques connues et influentes qui collaborent avec des athlètes leaders pour promouvoir Special Olympics au moins 3 fois par an | E8: Le Programme compte au moins 3 personnalités publiques influentes et connues qui collaborent avec des athlètes leaders pour faire connaître Special Olympics tout au long de l'année.
B9: Mettre en valeur les talents des athlètes | C9: Le Programme fait la promotion des réalisations des athlètes, en particulier dans le sport, sur les réseaux sociaux. | D9: Le Programme utilise les athlètes leaders comme principaux porte-parole et a une stratégie active de couverture médiatique qui met en vedette les athlètes leaders. | E9: Le Programme s'associe à une entité médiatique locale, régionale ou nationale, télévision / radio / en ligne pour présenter les réalisations des athlètes et des athlètes leaders (par exemple, documentaire, reportages)
A10: E3.5-E3.7 Marketing et communications locales | B10: Capacité locale | C10: Le Programme garantit que les programmes (clubs) Special Olympics locaux ont une formation et des documents de base pour participer à des activités de relations publiques dans leur communauté locale | D10: Le Programme a une stratégie délibérée pour habiliter et soutenir les programmes (clubs) Special Olympics locaux afin de sensibiliser leur communauté locale. | E10: Le Programme utilise des partenariats avec des donateurs ou des médias pour aider les programmes (clubs) Special Olympics locaux à sensibiliser leur communauté locale.

Sheet E4
A1: ='S1'!A1 -> Référence du plan stratégique | B1: ='S1'!B1 -> Zone de PQS | C1: ='S1'!C1 -> Niveau 1 | D1: ='S1'!D1 -> Niveau 2 | E1: ='S1'!E1 -> Niveau 3 | F1: ='S1'!F1 -> Niveau Actuel | G1: ='S1'!G1 -> Niveau Cible | H1: ='S1'!H1 -> Haute Priorité | ... K1: ='S1'!K1 -> Commentaires sur le Rapport D'avancement
A2: E4.1 Leadership Unifié | B2: Approche du Leadership Unifié | C2: Le Programme donne une formation interne au personnel, aux Conseils d'Administration et aux bénévoles sur le Leadership Unifié. Les responsables de Programme identifient et facilitent activement les rôles des athlètes leaders à tous les niveaux. | D2: Le programme s'engage à éduquer les organisations extérieures sur l'approche du Leadership Unifié dirigé ou codirigé par des athlètes. | E2: Le Programme recherche et utilise des opportunités extérieures telles que des conférences pour promouvoir l'approche du Leadership Unifié, avec des athlètes leaders de façon indépendante ou en tant que co-facilitateurs.
A3: E4.2 Développement du leadership | B3: Formation et Developpement | C3: Le Programme garantit que tout le personnel et les principaux bénévoles reçoivent une formation de base sur leurs rôles. | D3: Le Programme a une approche structurée de la formation et du perfectionnement du personnel et des principaux bénévoles afin d'améliorer la façon dont le Programme est géré et de soutenir la planification de la relève. | E3: Les bénévoles et le personnel principal ont la possibilité de devenir des experts en la matière qui contribuent à de meilleures pratiques en interne et en externe.
A4: E4.3 Conseil d'Administration | B4: Recrutement stratégique | C4: Le Programme recherche activement de nouveaux membres de Conseil d’Administration et informe le Conseil sur son rôle de soutien aux besoins annuels, continus et à long terme du Programme. | D4: Le Programme évalue régulièrement la diversité et les compétences du Conseil d’Administration et recrute stratégiquement pour assurer la diversité et combler les lacunes en matière de compétences. | E4: Le Programme fait appel à une expertise externe pour soutenir le recrutement de membres du Conseil d’Administration diversifiés, qualifiés et expérimentés.
B5: Engagement / Implication efficace | C5: Les membres du Conseil d’Administration sont actifs et assistent régulièrement aux réunions et événements. Le conseil a défini des comités permanents et ad hoc. | D5: Le Conseil d’Administration respecte activement ses engagements fiduciaires, de surveillance, de planification stratégique, de collecte de fonds et de durabilité envers le Programme. Le conseil a des comités actifs avec des objectifs annuels écrits. | E5: Le Programme dispose d'un Conseil d'Administration pleinement impliqué et productif qui guide le Programme et apporte des ressources. Tous les membres sont affectés à au moins un comité en fonction de leur expertise et / ou de leur intérêt.
B6: Revitalisation intentionnelle | C6: Le Programme assure une formation continue et des possibilités d'implication pour le Conseil d’Administration. | D6: Le Conseil d’Administration organise au moins une retraite par an et forme des membres à des postes de direction (p. Ex. Dirigeant, président de comité). | E6: Le Conseil d’Administration procède annuellement à des évaluations individuelles des membres et de l'ensemble du Conseil et dispose d'un plan de relève pour ses postes de direction.
A7: E4.4 Bénévoles & Personnel | B7: Engagement / Implication de la famille | C7: Le Programme recueille des informations de base sur les familles et offre au moins une opportunité d'éducation aux familles chaque année. | D7: Le Programme communique régulièrement avec les familles, dispose d'une structure familiale formelle pour obtenir des commentaires. Au moins 3 opportunités d'éducation ou de réseautage sont offertes aux familles chaque année. | E7: Les membres de famille occupent des postes de responsabilité à tous les niveaux du Programme. Le Programme offre un calendrier annuel de possibilités d'éducation et de réseautage pour les familles.
B8: Diversité, Équité et Inclusion (DE&I) | C8: Le Programme a une politique de DE&I et fait des efforts internes pour promouvoir la DE&I par la sensibilisation, la programmation et le marketing. | D8: Le Programme intègre la DE&I dans tous les aspects de ses opérations et cherche à soutenir et à promouvoir les efforts de la DE&I à l'extérieur. | E8: Le Programme est le chef de file dans la mise en œuvre de la DE&I et un influenceur et un leader d'opinion respecté au niveau étatique ou national.
B9: Recrutement de bénévoles | C9: Le Programme recherche de manière proactive de nouveaux bénévoles (par exemple en ligne ou lors d'événements) et offre régulièrement des possibilités de formation aux bénévoles. | D9: Le Programme a un processus de recrutement officiel pour les bénévoles et une stratégie de rétention des bénévoles. | E9: Le Programme implique des institutions, des organisations et des entreprises dans le recrutement des bénévoles. Le Programme retient et / ou augmente le nombre de bénévoles d'année en année.
B10: Reconnaissance des bénévoles | C10: Le Programme offre une reconnaissance de base pour le personnel et les bénévoles, y compris les entraîneurs (par exemple, lettres de remerciement). | D10: Le Programme a un programme officiel de reconnaissance pour le personnel, les bénévoles et les entraîneurs (p. Ex. Prix, évènements spéciaux). | E10: Le Programme s'associe à des partenaires en matière de reconnaissance / certification externes pour améliorer la reconnaissance et la rétention des bénévoles et du personnel.
B11: Performance du personnel | C11: Le Programme a rédigé des descriptions de poste travail pour le personnel principal rémunéré et / ou pour les postes principaux de responsabilité bénévoles. | D11: Le Programme fixe des objectifs annuels et évalue les progrès du personnel rémunéré et des bénévoles dans des rôles principaux de responsabilité. | E11: Le Programme a un processus formel de gestion du rendement du personnel et de développement professionnel.
A12: E4.5 Améliorations de la qualité | B12: Gestion des Évènements | C12: Les compétitions et les activités non sportives sont dirigées par des bénévoles formés avec des rôles clairs. Le Programme met en œuvre un processus d'inscription et de formation des bénévoles le jour de l'évènement. | D12: L'inscription, la formation et les affectations des bénévoles à l'évènement se font à l'avance. Les familles, les médias et les invités d'honneur sont inscrits pour assister à l'évènement via un système d'inscription. Le Programme effectue une évaluation de base après l'évènement. | E12: Les évènements sont organisés par des équipes expérimentées qui forment de nouveaux bénévoles à des rôles clés, recherchent des feedbacks et améliorent continuellement la façon dont les évènements sont organisés. Les bénévoles participent et soutiennent l'évènement par le biais des médias numériques. L'évaluation des évènements faite par des groupes constitués.
A13: E4.6 Évaluation & utilisation des données | B13: Rapports de données | C13: Le Programme rapporte des données cohérentes et précises en temps opportun (par exemple, Recensement, enquête sur les politiques, inscription aux Jeux Mondiaux, rapports de subventions). | D13: Le Programme est proactif dans la soumission de données récurrentes et les rapports sur les subventions. Le Programme suit les données soumises et les utilise pour éclairer sa planification annuelle. | E13: Le Programme suit et évalue les données pour prendre des décisions stratégiques. Le Programme suit ses plans opérationnels et stratégiques.
A14: E4.7 Outils et pratiques | B14: Comptes financiers | C14: Le Programme a assigné la responsabilité de la gestion centralisée et de la mise en banque des fonds au nom du Programme. Les états financiers annuels sont tenus (de préférence audités). | D14: Les projections mensuelles et annuelles des flux de trésorerie sont maintenues et mises à jour régulièrement. Les politiques et procédures financières sont revues et mises à jour annuellement. | E14: Le Programme gère les comptes financiers sur une base mensuelle (revenus et dépenses).
B15: Planification | C15: Le Programme élabore et met en œuvre un plan opérationnel annuel avec des objectifs, des actions, des mesures, des échéanciers, alignés sur le Plan Stratégique de SOI. | D15: Le Programme développe et met en œuvre un plan pluriannuel (c'est-à-dire stratégique) avec des objectifs, des actions, des mesures, des échéanciers, alignés sur le Plan Stratégique de SOI. | E15: Le Programme procède à un examen continu de son plan annuel et à un examen de fin d'année de son plan stratégique et l'ajuste en fonction des leçons apprises.
B16: Budget | C16: Le Programme fonctionne dans les limites du budget approuvé par le Conseil d’Administration et aligné sur les objectifs du plan annuel. | D16: Le Programme dispose de réserves financières opérationnelles de 3 mois et met en œuvre un plan de viabilité financière à long terme. | E16: Le Programme dispose de 6 mois de réserves financières d'exploitation.
B17: Gestion des Risques | C17: Le Programme effectue une évaluation de base des risques et met en œuvre un plan pour faire face aux risques, y compris des inspections des sites avant les événements. Le Programme offre une formation de base en gestion des risques au personnel et aux principaux bénévoles. | D17: Le Programme effectue une évaluation formelle des risques, y compris des questions telles que la protection et la gestion médicale lors d'évènements. Le Programme a un plan écrit de gestion des risques / crises. Le Programme garantit la couverture d'assurance de base nécessaire. | E17: Le Programme élabore et met en œuvre des politiques et des procédures de gestion des risques. Le Programme s'associe aux services de police, d'incendie et de sécurité pour soutenir la gestion des risques lors d'évènements. Une formation sur la gestion des risques (par exemple, répétition de l'évènement, exercice sur table) est dispensée avec tout le personnel du site et les responsables de l'événement.
A18: E4.8 Collaboration interne | B18: Communication interne | C18: Le Programme communique régulièrement avec les principales parties prenantes (par exemple, les athlètes, le personnel, les principaux bénévoles) à tous les niveaux et communique régulièrement avec la Région Special Olympics. | D18: Le Programme dispose d'un canal formel de communication bidirectionnelle avec les parties prenantes internes (par exemple, médias sociaux, groupe de discussion, etc.) Le Programme s'engage avec d'autres dirigeants de la région Special Olympics pour partager les meilleures pratiques et apprendre des autres | E18: Le Programme dispose d'une plate-forme qui permet aux parties prenantes internes, en particulier au personnel et aux bénévoles, de travailler ensemble sur des projets.

Sheet TABLEAU DE BORD
A2: PROFIL DU PROGRAMME
A4: Résumé des Niveaux Actuels du Programme par Domaine du Plan Stratégique
A6: Domaine du Plan Stratégique | B6: =Data!D2 -> Nous n'avons pas encore atteint l'étape 1. | C6: =Data!D3 -> Niveau 1 | D6: =Data!D4 -> Niveau 2 | E6: =Data!D5 -> Niveau 3 | F6: =Data!D6 -> Niveau 3+
A7: =Data!H2 -> S1 - PROGRAMMATION LOCALE | B7: =Data!I12 -> 0 | C7: =Data!J12 -> 0 | D7: =Data!K12 -> 0 | E7: =Data!L12 -> 0 | F7: =Data!M12 -> 0
A8: =Data!H3 -> S2 - AUTONOMISATION DES ATHLÈTES ET DES JEUNES | B8: =Data!I13 -> 0 | C8: =Data!J13 -> 0 | D8: =Data!K13 -> 0 | E8: =Data!L13 -> 0 | F8: =Data!M13 -> 0
A9: =Data!H4 -> S3 - DÉVELOPPER DES PRATIQUES INCLUSIVES | B9: =Data!I14 -> 0 | C9: =Data!J14 -> 0 | D9: =Data!K14 -> 0 | E9: =Data!L14 -> 0 | F9: =Data!M14 -> 0
A10: =Data!H5 -> E1 - NUMÉRISER LE MOUVEMENT | B10: =Data!I15 -> 0 | C10: =Data!J15 -> 0 | D10: =Data!K15 -> 0 | E10: =Data!L15 -> 0 | F10: =Data!M15 -> 0
A11: =Data!H6 -> E2 - DIVERSIFIER LES REVENUS | B11: =Data!I16 -> 0 | C11: =Data!J16 -> 0 | D11: =Data!K16 -> 0 | E11: =Data!L16 -> 0 | F11: =Data!M16 -> 0
A12: =Data!H7 -> E3 - DÉVELOPPER LA MARQUE | B12: =Data!I17 -> 0 | C12: =Data!J17 -> 0 | D12: =Data!K17 -> 0 | E12: =Data!L17 -> 0 | F12: =Data!M17 -> 0
A13: =Data!H8 -> E4 - IMPULSER L'EXCELLENCE | B13: =Data!I18 -> 0 | C13: =Data!J18 -> 0 | D13: =Data!K18 -> 0 | E13: =Data!L18 -> 0 | F13: =Data!M18 -> 0
A14: Tous les Domaines du Plan Stratégique | B14: =Data!I19 -> 0 | C14: =Data!J19 -> 0 | D14: =Data!K19 -> 0 | E14: =Data!L19 -> 0 | F14: =Data!M19 -> 0
A16: Résumé des Niveaux Cibles du Programme par Domaine du Plan Stratégique
A18: Normes identifiées comme étant de priorité ÉLEVÉE | C18: =Data!R2 -> 0
A19: Normes identifiées comme NON prioritaires | C19: =Data!R3 -> 0
A20: Normes avec le stade le plus élevé atteint | C20: =Data!R4 -> 0
A22: =A6 -> Domaine du Plan Stratégique | B22: =Data!I32 -> Pas actuellement une priorité | C22: =Data!J32 -> Niveau 1 | D22: =Data!K32 -> Niveau 2 | E22: =Data!L32 -> Niveau 3 | F22: =Data!M32 -> Stade le plus élevé atteint | G22: =Data!N32 -> Normes identifiées comme hautement prioritaires
A23: =Data!H2 -> S1 - PROGRAMMATION LOCALE | B23: =Data!I33 -> 0 | C23: =Data!J33 -> 0 | D23: =Data!K33 -> 0 | E23: =Data!L33 -> 0 | F23: =Data!M33 -> 0 | G23: =Data!N33 -> 0
A24: =Data!H3 -> S2 - AUTONOMISATION DES ATHLÈTES ET DES JEUNES | B24: =Data!I34 -> 0 | C24: =Data!J34 -> 0 | D24: =Data!K34 -> 0 | E24: =Data!L34 -> 0 | F24: =Data!M34 -> 0 | G24: =Data!N34 -> 0
A25: =Data!H4 -> S3 - DÉVELOPPER DES PRATIQUES INCLUSIVES | B25: =Data!I35 -> 0 | C25: =Data!J35 -> 0 | D25: =Data!K35 -> 0 | E25: =Data!L35 -> 0 | F25: =Data!M35 -> 0 | G25: =Data!N35 -> 0
A26: =Data!H5 -> E1 - NUMÉRISER LE MOUVEMENT | B26: =Data!I36 -> 0 | C26: =Data!J36 -> 0 | D26: =Data!K36 -> 0 | E26: =Data!L36 -> 0 | F26: =Data!M36 -> 0 | G26: =Data!N36 -> 0
A27: =Data!H6 -> E2 - DIVERSIFIER LES REVENUS | B27: =Data!I37 -> 0 | C27: =Data!J37 -> 0 | D27: =Data!K37 -> 0 | E27: =Data!L37 -> 0 | F27: =Data!M37 -> 0 | G27: =Data!N37 -> 0
A28: =Data!H7 -> E3 - DÉVELOPPER LA MARQUE | B28: =Data!I38 -> 0 | C28: =Data!J38 -> 0 | D28: =Data!K38 -> 0 | E28: =Data!L38 -> 0 | F28: =Data!M38 -> 0 | G28: =Data!N38 -> 0
A29: =Data!H8 -> E4 - IMPULSER L'EXCELLENCE | B29: =Data!I39 -> 0 | C29: =Data!J39 -> 0 | D29: =Data!K39 -> 0 | E29: =Data!L39 -> 0 | F29: =Data!M39 -> 0 | G29: =Data!N39 -> 0
A30: Total | B30: =Data!I40 -> 0 | C30: =Data!J40 -> 0 | D30: =Data!K40 -> 0 | E30: =Data!L40 -> 0 | F30: =Data!M40 -> 0 | G30: =Data!N40 -> 0
A32: =Data!U1 -> Rapport d'étape
A34: =Data!U2 -> N/A | B34: =Data!W2 -> 0
A35: =Data!U3 -> Complet | B35: =Data!W3 -> 0
A36: =Data!U4 -> Sur la bonne voie | B36: =Data!W4 -> 0
A37: =Data!U5 -> Légèrement hors piste | B37: =Data!W5 -> 0
A38: =Data!U6 -> Pas sur la bonne voie | B38: =Data!W6 -> 0

Sheet Data
A1: Region | B1: Programas | C1: Avancement de l'achèvement | D1: Options de l'étape actuelle | E1: Options d'étape cible | F1: Normes identifiées comme hautement prioritaires | G1: Total standards | H1: Count of current stages by PQS area | I1: =D2 -> Nous n'avons pas encore atteint l'étape 1. | J1: =D3 -> Niveau 1 | K1: =D4 -> Niveau 2 | L1: =D5 -> Niveau 3 | M1: =D6 -> Niveau 3+ | N1: Niveau 3 or 3+ | O1: Total | Q1: Priorité | R1: Number of standards | S1: % | U1: Rapport d'étape
A2: SOA | B2: Afghanistan | C2: =O9/G9 -> 0 | D2: Nous n'avons pas encore atteint l'étape 1. | E2: Pas actuellement une priorité | F2: ↑ | G2: =COUNTA('S1'!B2:B19) -> 18 | H2: S1 - PROGRAMMATION LOCALE | I2: =COUNTIF('S1'!F:F, Data!$D$2) -> 0 | J2: =COUNTIF('S1'!F:F, Data!$D$3) -> 0 | K2: =COUNTIF('S1'!F:F, Data!$D$4) -> 0 | L2: =COUNTIF('S1'!F:F, Data!$D$5) -> 0 | M2: =COUNTIF('S1'!F:F, Data!$D$6) -> 0 | N2: =SUM(L2:M2) -> 0 | O2: =SUM(I2:M2) -> 0 | Q2: =F1 -> Normes identifiées comme hautement prioritaires | R2: =SUM(COUNTA('S1'!H2:H19),COUNTA('S2'!H2:H8), COUNTA('S3'!H2:H6), COUNTA('E1'!H2:H9), COUNTA('E2'!H2:H6), COUNTA('E3'!H2:H10), COUNTA('E4'!H2:H18)) -> 0 | S2: =R2/$R$5 -> 0 | U2: N/A | V2: =SUM(COUNTIF('S1'!J:J, U2),COUNTIF('S2'!J:J, U2), COUNTIF('S3'!J:J, U2), COUNTIF('E1'!J:J, U2), COUNTIF('E2'!J:J, U2), COUNTIF('E3'!J:J, U2), COUNTIF('E4'!J:J, U2)) -> 0 | W2: =V2/$R$5 -> 0
A3: SOAP | B3: Alabama | D3: Niveau 1 | E3: Niveau 1 | G3: =COUNTA('S2'!B2:B8) -> 7 | H3: S2 - AUTONOMISATION DES ATHLÈTES ET DES JEUNES | I3: =COUNTIF('S2'!F:F, Data!$D$2) -> 0 | J3: =COUNTIF('S2'!F:F, Data!$D$3) -> 0 | K3: =COUNTIF('S2'!F:F, Data!$D$4) -> 0 | L3: =COUNTIF('S2'!F:F, Data!$D$5) -> 0 | M3: =COUNTIF('S2'!F:F, Data!$D$6) -> 0 | N3: =SUM(L3:M3) -> 0 | O3: =SUM(I3:M3) -> 0 | Q3: =E2 -> Pas actuellement une priorité | R3: =SUM(COUNTIF('S1'!G:G, E2),COUNTIF('S2'!G:G, E2), COUNTIF('S3'!G:G, E2), COUNTIF('E1'!G:G, E2), COUNTIF('E2'!G:G, E2), COUNTIF('E3'!G:G, E2), COUNTIF('E4'!G:G, E2)) -> 0 | S3: =R3/$R$5 -> 0 | U3: Complet | V3: =SUM(COUNTIF('S1'!J:J, U3),COUNTIF('S2'!J:J, U3), COUNTIF('S3'!J:J, U3), COUNTIF('E1'!J:J, U3), COUNTIF('E2'!J:J, U3), COUNTIF('E3'!J:J, U3), COUNTIF('E4'!J:J, U3)) -> 0 | W3: =V3/$R$5 -> 0
A4: SOEA | B4: Alaska | D4: Niveau 2 | E4: Niveau 2 | G4: =COUNTA('S3'!B2:B6) -> 5 | H4: S3 - DÉVELOPPER DES PRATIQUES INCLUSIVES | I4: =COUNTIF('S3'!F:F, Data!$D$2) -> 0 | J4: =COUNTIF('S3'!F:F, Data!$D$3) -> 0 | K4: =COUNTIF('S3'!F:F, Data!$D$4) -> 0 | L4: =COUNTIF('S3'!F:F, Data!$D$5) -> 0 | M4: =COUNTIF('S3'!F:F, Data!$D$6) -> 0 | N4: =SUM(L4:M4) -> 0 | O4: =SUM(I4:M4) -> 0 | Q4: =E6 -> Stade le plus élevé atteint | R4: =SUM(COUNTIF('S1'!G:G, E6),COUNTIF('S2'!G:G, E6), COUNTIF('S3'!G:G, E6), COUNTIF('E1'!G:G, E6), COUNTIF('E2'!G:G, E6), COUNTIF('E3'!G:G, E6), COUNTIF('E4'!G:G, E6)) -> 0 | S4: =R4/$R$5 -> 0 | U4: Sur la bonne voie | V4: =SUM(COUNTIF('S1'!J:J, U4),COUNTIF('S2'!J:J, U4), COUNTIF('S3'!J:J, U4), COUNTIF('E1'!J:J, U4), COUNTIF('E2'!J:J, U4), COUNTIF('E3'!J:J, U4), COUNTIF('E4'!J:J, U4)) -> 0 | W4: =V4/$R$5 -> 0
A5: SOEE | B5: Albania | D5: Niveau 3 | E5: Niveau 3 | G5: =COUNTA('E1'!B2:B9) -> 8 | H5: E1 - NUMÉRISER LE MOUVEMENT | I5: =COUNTIF('E1'!F:F, Data!$D$2) -> 0 | J5: =COUNTIF('E1'!F:F, Data!$D$3) -> 0 | K5: =COUNTIF('E1'!F:F, Data!$D$4) -> 0 | L5: =COUNTIF('E1'!F:F, Data!$D$5) -> 0 | M5: =COUNTIF('E1'!F:F, Data!$D$6) -> 0 | N5: =SUM(L5:M5) -> 0 | O5: =SUM(I5:M5) -> 0 | Q5: Total standards | R5: =COUNTA('S1'!B2:B19)+COUNTA('S2'!B2:B8)+COUNTA('S3'!B2:B6)+COUNTA('E1'!B2:B9)+COUNTA('E2'!B2:B6)+COUNTA('E3'!B2:B10)+COUNTA('E4'!B2:B18) -> 69 | U5: Légèrement hors piste | V5: =SUM(COUNTIF('S1'!J:J, U5),COUNTIF('S2'!J:J, U5), COUNTIF('S3'!J:J, U5), COUNTIF('E1'!J:J, U5), COUNTIF('E2'!J:J, U5), COUNTIF('E3'!J:J, U5), COUNTIF('E4'!J:J, U5)) -> 0 | W5: =V5/$R$5 -> 0
A6: SOLA | B6: Algeria | D6: Niveau 3+ | E6: Stade le plus élevé atteint | G6: =COUNTA('E2'!B2:B6) -> 5 | H6: E2 - DIVERSIFIER LES REVENUS | I6: =COUNTIF('E2'!F:F, Data!$D$2) -> 0 | J6: =COUNTIF('E2'!F:F, Data!$D$3) -> 0 | K6: =COUNTIF('E2'!F:F, Data!$D$4) -> 0 | L6: =COUNTIF('E2'!F:F, Data!$D$5) -> 0 | M6: =COUNTIF('E2'!F:F, Data!$D$6) -> 0 | N6: =SUM(L6:M6) -> 0 | O6: =SUM(I6:M6) -> 0 | U6: Pas sur la bonne voie | V6: =SUM(COUNTIF('S1'!J:J, U6),COUNTIF('S2'!J:J, U6), COUNTIF('S3'!J:J, U6), COUNTIF('E1'!J:J, U6), COUNTIF('E2'!J:J, U6), COUNTIF('E3'!J:J, U6), COUNTIF('E4'!J:J, U6)) -> 0 | W6: =V6/$R$5 -> 0
A7: SOMENA | B7: American Samoa | G7: =COUNTA('E3'!B2:B10) -> 9 | H7: E3 - DÉVELOPPER LA MARQUE | I7: =COUNTIF('E3'!F:F, Data!$D$2) -> 0 | J7: =COUNTIF('E3'!F:F, Data!$D$3) -> 0 | K7: =COUNTIF('E3'!F:F, Data!$D$4) -> 0 | L7: =COUNTIF('E3'!F:F, Data!$D$5) -> 0 | M7: =COUNTIF('E3'!F:F, Data!$D$6) -> 0 | N7: =SUM(L7:M7) -> 0 | O7: =SUM(I7:M7) -> 0 | U7: Total | V7: =SUM(V3:V6) -> 0 | W7: =V7/$R$5 -> 0
A8: SONA | B8: Andorra | G8: =COUNTA('E4'!B2:B18) -> 17 | H8: E4 - IMPULSER L'EXCELLENCE | I8: =COUNTIF('E4'!F:F, Data!$D$2) -> 0 | J8: =COUNTIF('E4'!F:F, Data!$D$3) -> 0 | K8: =COUNTIF('E4'!F:F, Data!$D$4) -> 0 | L8: =COUNTIF('E4'!F:F, Data!$D$5) -> 0 | M8: =COUNTIF('E4'!F:F, Data!$D$6) -> 0 | N8: =SUM(L8:M8) -> 0 | O8: =SUM(I8:M8) -> 0
B9: Antigua and Barbuda | G9: =SUM(G2:G8) -> 69 | H9: Total | I9: =SUM(I2:I8) -> 0 | J9: =SUM(J2:J8) -> 0 | K9: =SUM(K2:K8) -> 0 | L9: =SUM(L2:L8) -> 0 | M9: =SUM(M2:M8) -> 0 | N9: =SUM(L9:M9) -> 0 | O9: =SUM(I9:M9) -> 0
B10: Argentina
B11: Arizona | H11: % of current stages by PQS area | I11: =I1 -> Nous n'avons pas encore atteint l'étape 1. | J11: =J1 -> Niveau 1 | K11: =K1 -> Niveau 2 | L11: =L1 -> Niveau 3 | M11: =M1 -> Niveau 3+ | N11: =N1 -> Niveau 3 or 3+ | O11: Total
B12: Arkansas | H12: =H2 -> S1 - PROGRAMMATION LOCALE | I12: =I2/$G$2 -> 0 | J12: =J2/$G$2 -> 0 | K12: =K2/$G$2 -> 0 | L12: =L2/$G$2 -> 0 | M12: =M2/$G$2 -> 0 | N12: =N2/$G$2 -> 0 | O12: =SUM(I12:M12) -> 0
B13: Armenia | H13: =H3 -> S2 - AUTONOMISATION DES ATHLÈTES ET DES JEUNES | I13: =I3/$G$3 -> 0 | J13: =J3/$G$3 -> 0 | K13: =K3/$G$3 -> 0 | L13: =L3/$G$3 -> 0 | M13: =M3/$G$3 -> 0 | N13: =N3/$G$3 -> 0 | O13: =SUM(I13:M13) -> 0
B14: Aruba | H14: =H4 -> S3 - DÉVELOPPER DES PRATIQUES INCLUSIVES | I14: =I4/$G$4 -> 0 | J14: =J4/$G$4 -> 0 | K14: =K4/$G$4 -> 0 | L14: =L4/$G$4 -> 0 | M14: =M4/$G$4 -> 0 | N14: =N4/$G$4 -> 0 | O14: =SUM(I14:M14) -> 0
B15: Australia | H15: =H5 -> E1 - NUMÉRISER LE MOUVEMENT | I15: =I5/$G$5 -> 0 | J15: =J5/$G$5 -> 0 | K15: =K5/$G$5 -> 0 | L15: =L5/$G$5 -> 0 | M15: =M5/$G$5 -> 0 | N15: =N5/$G$5 -> 0 | O15: =SUM(I15:M15) -> 0
B16: Austria | H16: =H6 -> E2 - DIVERSIFIER LES REVENUS | I16: =I6/$G$6 -> 0 | J16: =J6/$G$6 -> 0 | K16: =K6/$G$6 -> 0 | L16: =L6/$G$6 -> 0 | M16: =M6/$G$6 -> 0 | N16: =N6/$G$6 -> 0 | O16: =SUM(I16:M16) -> 0
